BEGIN:VCALENDAR
VERSION:2.0
PRODID:-//Heartland Art Center - ECPv6.15.20//NONSGML v1.0//EN
CALSCALE:GREGORIAN
METHOD:PUBLISH
X-WR-CALNAME:Heartland Art Center
X-ORIGINAL-URL:https://heartlandartgallery.com
X-WR-CALDESC:Events for Heartland Art Center
REFRESH-INTERVAL;VALUE=DURATION:PT1H
X-Robots-Tag:noindex
X-PUBLISHED-TTL:PT1H
BEGIN:VTIMEZONE
TZID:America/Indiana/Indianapolis
BEGIN:DAYLIGHT
TZOFFSETFROM:-0500
TZOFFSETTO:-0400
TZNAME:EDT
DTSTART:20240310T070000
END:DAYLIGHT
BEGIN:STANDARD
TZOFFSETFROM:-0400
TZOFFSETTO:-0500
TZNAME:EST
DTSTART:20241103T060000
END:STANDARD
BEGIN:DAYLIGHT
TZOFFSETFROM:-0500
TZOFFSETTO:-0400
TZNAME:EDT
DTSTART:20250309T070000
END:DAYLIGHT
BEGIN:STANDARD
TZOFFSETFROM:-0400
TZOFFSETTO:-0500
TZNAME:EST
DTSTART:20251102T060000
END:STANDARD
BEGIN:DAYLIGHT
TZOFFSETFROM:-0500
TZOFFSETTO:-0400
TZNAME:EDT
DTSTART:20260308T070000
END:DAYLIGHT
BEGIN:STANDARD
TZOFFSETFROM:-0400
TZOFFSETTO:-0500
TZNAME:EST
DTSTART:20261101T060000
END:STANDARD
END:VTIMEZONE
BEGIN:VEVENT
DTSTART;TZID=America/Indiana/Indianapolis:20251220T113000
DTEND;TZID=America/Indiana/Indianapolis:20251220T123000
DTSTAMP:20260424T085104
CREATED:20251113T232342Z
LAST-MODIFIED:20251113T232342Z
UID:10000449-1766230200-1766233800@heartlandartgallery.com
SUMMARY:Saturday Sounds Alex Jeffirs Master Class
DESCRIPTION:
URL:https://heartlandartgallery.com/event/saturday-sounds-alex-jeffirs-master-class-2/
CATEGORIES:Events
END:VEVENT
BEGIN:VEVENT
DTSTART;TZID=America/Indiana/Indianapolis:20251220T113000
DTEND;TZID=America/Indiana/Indianapolis:20251220T123000
DTSTAMP:20260424T085104
CREATED:20251113T232342Z
LAST-MODIFIED:20251219T215519Z
UID:10000451-1766230200-1766233800@heartlandartgallery.com
SUMMARY:Piano Masterclass & Recital
DESCRIPTION:Piano Masterclass & Recital – Chee-Hang See is a prize-winning Singaporean pianist and conductor who has been praised as “a cool and confident performer” and an “expert and sympathetic collaborator”. He has soloed with orchestras in Italy\, Uruguay\, Singapore\, and the U.S\, and has appeared with Vero Beach Opera\, The Opera People Astralis Chamber Ensemble\, Holy City Arts and Lyric Opera\, Chamber Music Charleston\, and the Charleston Symphony. Chee-Hang is music director of the Remington Series. He has taught at the Charleston Academy of Music\, Music Institute of Chicago\, and presented masterclasses in the U.S. and Asia. http://cheehang.weebly.comInquiries about student performance for the masterclass can be sent to alexjeffirs@gmail.com
URL:https://heartlandartgallery.com/event/saturday-sounds-alex-jeffirs-master-class/
LOCATION:Heartland Art Center\, 214 N Michigan St\, Plymouth\, IN\, United States
CATEGORIES:Events
ATTACH;FMTTYPE=image/png:https://heartlandartgallery.com/wp-content/uploads/2025/11/3.png
GEO:41.340975;-86.30912
X-APPLE-STRUCTURED-LOCATION;VALUE=URI;X-ADDRESS=Heartland Art Center 214 N Michigan St Plymouth IN United States;X-APPLE-RADIUS=500;X-TITLE=214 N Michigan St:geo:-86.30912,41.340975
END:VEVENT
BEGIN:VEVENT
DTSTART;TZID=America/Indiana/Indianapolis:20251220T190000
DTEND;TZID=America/Indiana/Indianapolis:20251220T200000
DTSTAMP:20260424T085104
CREATED:20251125T162524Z
LAST-MODIFIED:20251220T215830Z
UID:10000632-1766257200-1766260800@heartlandartgallery.com
SUMMARY:Piano Recital:  Chee-Hang See
DESCRIPTION:Piano Masterclass & Recital – Chee-Hang See is a prize-winning Singaporean pianist and conductor who has been praised as “a cool and confident performer” and an “expert and sympathetic collaborator”. He has soloed with orchestras in Italy\, Uruguay\, Singapore\, and the U.S\, and has appeared with Vero Beach Opera\, The Opera People Astralis Chamber Ensemble\, Holy City Arts and Lyric Opera\, Chamber Music Charleston\, and the Charleston Symphony. Chee-Hang is music director of the Remington Series. He has taught at the Charleston Academy of Music\, Music Institute of Chicago\, and presented masterclasses in the U.S. and Asia. http://cheehang.weebly.comInquiries about student performance for the masterclass at 11:30am can be sent to alexjeffirs@gmail.com
URL:https://heartlandartgallery.com/event/piano-recital-chee-hang-see/
LOCATION:Heartland Art Center\, 214 N Michigan St\, Plymouth\, IN\, United States
CATEGORIES:Events
ATTACH;FMTTYPE=image/jpeg:https://heartlandartgallery.com/wp-content/uploads/2025/11/masterclass-piano.jpg
GEO:41.340975;-86.30912
X-APPLE-STRUCTURED-LOCATION;VALUE=URI;X-ADDRESS=Heartland Art Center 214 N Michigan St Plymouth IN United States;X-APPLE-RADIUS=500;X-TITLE=214 N Michigan St:geo:-86.30912,41.340975
END:VEVENT
END:VCALENDAR