BEGIN:VCALENDAR
VERSION:2.0
PRODID:-//Heartland Art Center - ECPv6.15.20//NONSGML v1.0//EN
CALSCALE:GREGORIAN
METHOD:PUBLISH
X-WR-CALNAME:Heartland Art Center
X-ORIGINAL-URL:https://heartlandartgallery.com
X-WR-CALDESC:Events for Heartland Art Center
REFRESH-INTERVAL;VALUE=DURATION:PT1H
X-Robots-Tag:noindex
X-PUBLISHED-TTL:PT1H
BEGIN:VTIMEZONE
TZID:America/Indiana/Indianapolis
BEGIN:DAYLIGHT
TZOFFSETFROM:-0500
TZOFFSETTO:-0400
TZNAME:EDT
DTSTART:20250309T070000
END:DAYLIGHT
BEGIN:STANDARD
TZOFFSETFROM:-0400
TZOFFSETTO:-0500
TZNAME:EST
DTSTART:20251102T060000
END:STANDARD
BEGIN:DAYLIGHT
TZOFFSETFROM:-0500
TZOFFSETTO:-0400
TZNAME:EDT
DTSTART:20260308T070000
END:DAYLIGHT
BEGIN:STANDARD
TZOFFSETFROM:-0400
TZOFFSETTO:-0500
TZNAME:EST
DTSTART:20261101T060000
END:STANDARD
BEGIN:DAYLIGHT
TZOFFSETFROM:-0500
TZOFFSETTO:-0400
TZNAME:EDT
DTSTART:20270314T070000
END:DAYLIGHT
BEGIN:STANDARD
TZOFFSETFROM:-0400
TZOFFSETTO:-0500
TZNAME:EST
DTSTART:20271107T060000
END:STANDARD
END:VTIMEZONE
BEGIN:VEVENT
DTSTART;TZID=America/Indiana/Indianapolis:20260112T164500
DTEND;TZID=America/Indiana/Indianapolis:20260112T173000
DTSTAMP:20260424T071313
CREATED:20251008T011801Z
LAST-MODIFIED:20251121T181817Z
UID:10000174-1768236300-1768239000@heartlandartgallery.com
SUMMARY:Pre-School Acro
DESCRIPTION:Felke Dance Studio presents Pre-School Acro at Heartland Art Center
URL:https://heartlandartgallery.com/event/pre-school-acro-15/
LOCATION:Heartland Art Center\, 214 N Michigan St\, Plymouth\, IN\, United States
CATEGORIES:Classes
GEO:41.340975;-86.30912
X-APPLE-STRUCTURED-LOCATION;VALUE=URI;X-ADDRESS=Heartland Art Center 214 N Michigan St Plymouth IN United States;X-APPLE-RADIUS=500;X-TITLE=214 N Michigan St:geo:-86.30912,41.340975
END:VEVENT
BEGIN:VEVENT
DTSTART;TZID=America/Indiana/Indianapolis:20260112T173000
DTEND;TZID=America/Indiana/Indianapolis:20260112T181500
DTSTAMP:20260424T071313
CREATED:20251121T192359Z
LAST-MODIFIED:20260112T230401Z
UID:10000494-1768239000-1768241700@heartlandartgallery.com
SUMMARY:Tap Dancing
DESCRIPTION:FELKE DANCE STUDIO PRESENTS MOMMY/DADDY & ME AT HEARTLAND ART CENTER \nEMAIL: desireefelke@gmail.com
URL:https://heartlandartgallery.com/event/tap-dancing-6/
LOCATION:Heartland Art Center\, 214 N Michigan St\, Plymouth\, IN\, United States
CATEGORIES:Classes
GEO:41.340975;-86.30912
X-APPLE-STRUCTURED-LOCATION;VALUE=URI;X-ADDRESS=Heartland Art Center 214 N Michigan St Plymouth IN United States;X-APPLE-RADIUS=500;X-TITLE=214 N Michigan St:geo:-86.30912,41.340975
END:VEVENT
BEGIN:VEVENT
DTSTART;TZID=America/Indiana/Indianapolis:20260112T174500
DTEND;TZID=America/Indiana/Indianapolis:20260112T183000
DTSTAMP:20260424T071313
CREATED:20251008T011801Z
LAST-MODIFIED:20251121T181817Z
UID:10000175-1768239900-1768242600@heartlandartgallery.com
SUMMARY:Mommy & Me Tumbling
DESCRIPTION:FELKE DANCE STUDIO PRESENTS MOMMY/DADDY & ME AT HEARTLAND ART CENTER \nEMAIL: desireefelke@gmail.com
URL:https://heartlandartgallery.com/event/mommy-me-tumbling-15/
LOCATION:Heartland Art Center\, 214 N Michigan St\, Plymouth\, IN\, United States
CATEGORIES:Classes
GEO:41.340975;-86.30912
X-APPLE-STRUCTURED-LOCATION;VALUE=URI;X-ADDRESS=Heartland Art Center 214 N Michigan St Plymouth IN United States;X-APPLE-RADIUS=500;X-TITLE=214 N Michigan St:geo:-86.30912,41.340975
END:VEVENT
BEGIN:VEVENT
DTSTART;TZID=America/Indiana/Indianapolis:20260112T180000
DTEND;TZID=America/Indiana/Indianapolis:20260112T200000
DTSTAMP:20260424T071313
CREATED:20251202T162123Z
LAST-MODIFIED:20260113T000540Z
UID:10000644-1768240800-1768248000@heartlandartgallery.com
SUMMARY:"Winter's Tangle Whisper" - Textured Acrylic Painting Class
DESCRIPTION:
URL:https://heartlandartgallery.com/event/winters-tangle-whisper-textured-acrylic-painting-class/
LOCATION:Heartland Art Center\, 214 N Michigan St\, Plymouth\, IN\, United States
CATEGORIES:Classes
ATTACH;FMTTYPE=image/jpeg:https://heartlandartgallery.com/wp-content/uploads/2025/12/Winters-Tangle-Whisper-James-D.jpg
GEO:41.340975;-86.30912
X-APPLE-STRUCTURED-LOCATION;VALUE=URI;X-ADDRESS=Heartland Art Center 214 N Michigan St Plymouth IN United States;X-APPLE-RADIUS=500;X-TITLE=214 N Michigan St:geo:-86.30912,41.340975
END:VEVENT
BEGIN:VEVENT
DTSTART;TZID=America/Indiana/Indianapolis:20260112T181500
DTEND;TZID=America/Indiana/Indianapolis:20260112T190000
DTSTAMP:20260424T071313
CREATED:20251121T192359Z
LAST-MODIFIED:20260112T230401Z
UID:10000495-1768241700-1768244400@heartlandartgallery.com
SUMMARY:Acro
DESCRIPTION:
URL:https://heartlandartgallery.com/event/acro-6/
CATEGORIES:Classes
END:VEVENT
END:VCALENDAR