BEGIN:VCALENDAR
VERSION:2.0
PRODID:-//Heartland Art Center - ECPv6.15.20//NONSGML v1.0//EN
CALSCALE:GREGORIAN
METHOD:PUBLISH
X-WR-CALNAME:Heartland Art Center
X-ORIGINAL-URL:https://heartlandartgallery.com
X-WR-CALDESC:Events for Heartland Art Center
REFRESH-INTERVAL;VALUE=DURATION:PT1H
X-Robots-Tag:noindex
X-PUBLISHED-TTL:PT1H
BEGIN:VTIMEZONE
TZID:America/Indiana/Indianapolis
BEGIN:DAYLIGHT
TZOFFSETFROM:-0500
TZOFFSETTO:-0400
TZNAME:EDT
DTSTART:20250309T070000
END:DAYLIGHT
BEGIN:STANDARD
TZOFFSETFROM:-0400
TZOFFSETTO:-0500
TZNAME:EST
DTSTART:20251102T060000
END:STANDARD
BEGIN:DAYLIGHT
TZOFFSETFROM:-0500
TZOFFSETTO:-0400
TZNAME:EDT
DTSTART:20260308T070000
END:DAYLIGHT
BEGIN:STANDARD
TZOFFSETFROM:-0400
TZOFFSETTO:-0500
TZNAME:EST
DTSTART:20261101T060000
END:STANDARD
BEGIN:DAYLIGHT
TZOFFSETFROM:-0500
TZOFFSETTO:-0400
TZNAME:EDT
DTSTART:20270314T070000
END:DAYLIGHT
BEGIN:STANDARD
TZOFFSETFROM:-0400
TZOFFSETTO:-0500
TZNAME:EST
DTSTART:20271107T060000
END:STANDARD
END:VTIMEZONE
BEGIN:VEVENT
DTSTART;TZID=America/Indiana/Indianapolis:20260216T164500
DTEND;TZID=America/Indiana/Indianapolis:20260216T173000
DTSTAMP:20260423T072205
CREATED:20251008T011805Z
LAST-MODIFIED:20251121T181842Z
UID:10000194-1771260300-1771263000@heartlandartgallery.com
SUMMARY:Pre-School Acro
DESCRIPTION:Felke Dance Studio presents Pre-School Acro at Heartland Art Center
URL:https://heartlandartgallery.com/event/pre-school-acro-20/
LOCATION:Heartland Art Center\, 214 N Michigan St\, Plymouth\, IN\, United States
CATEGORIES:Classes
GEO:41.340975;-86.30912
X-APPLE-STRUCTURED-LOCATION;VALUE=URI;X-ADDRESS=Heartland Art Center 214 N Michigan St Plymouth IN United States;X-APPLE-RADIUS=500;X-TITLE=214 N Michigan St:geo:-86.30912,41.340975
END:VEVENT
BEGIN:VEVENT
DTSTART;TZID=America/Indiana/Indianapolis:20260216T173000
DTEND;TZID=America/Indiana/Indianapolis:20260216T181500
DTSTAMP:20260423T072205
CREATED:20251121T192402Z
LAST-MODIFIED:20260216T225652Z
UID:10000504-1771263000-1771265700@heartlandartgallery.com
SUMMARY:Tap Dancing
DESCRIPTION:FELKE DANCE STUDIO PRESENTS MOMMY/DADDY & ME AT HEARTLAND ART CENTER \nEMAIL: desireefelke@gmail.com
URL:https://heartlandartgallery.com/event/tap-dancing-11/
LOCATION:Heartland Art Center\, 214 N Michigan St\, Plymouth\, IN\, United States
CATEGORIES:Classes
GEO:41.340975;-86.30912
X-APPLE-STRUCTURED-LOCATION;VALUE=URI;X-ADDRESS=Heartland Art Center 214 N Michigan St Plymouth IN United States;X-APPLE-RADIUS=500;X-TITLE=214 N Michigan St:geo:-86.30912,41.340975
END:VEVENT
BEGIN:VEVENT
DTSTART;TZID=America/Indiana/Indianapolis:20260216T174500
DTEND;TZID=America/Indiana/Indianapolis:20260216T183000
DTSTAMP:20260423T072205
CREATED:20251008T011806Z
LAST-MODIFIED:20251121T181842Z
UID:10000195-1771263900-1771266600@heartlandartgallery.com
SUMMARY:Mommy & Me Tumbling
DESCRIPTION:FELKE DANCE STUDIO PRESENTS MOMMY/DADDY & ME AT HEARTLAND ART CENTER \nEMAIL: desireefelke@gmail.com
URL:https://heartlandartgallery.com/event/mommy-me-tumbling-20/
LOCATION:Heartland Art Center\, 214 N Michigan St\, Plymouth\, IN\, United States
CATEGORIES:Classes
GEO:41.340975;-86.30912
X-APPLE-STRUCTURED-LOCATION;VALUE=URI;X-ADDRESS=Heartland Art Center 214 N Michigan St Plymouth IN United States;X-APPLE-RADIUS=500;X-TITLE=214 N Michigan St:geo:-86.30912,41.340975
END:VEVENT
BEGIN:VEVENT
DTSTART;TZID=America/Indiana/Indianapolis:20260216T180000
DTEND;TZID=America/Indiana/Indianapolis:20260216T200000
DTSTAMP:20260423T072205
CREATED:20251230T184248Z
LAST-MODIFIED:20260217T001646Z
UID:10000683-1771264800-1771272000@heartlandartgallery.com
SUMMARY:Acrylic Painting Class
DESCRIPTION:
URL:https://heartlandartgallery.com/event/acrylic-painting-class/
LOCATION:Heartland Art Center\, 214 N Michigan St\, Plymouth\, IN\, United States
CATEGORIES:Classes
GEO:41.340975;-86.30912
X-APPLE-STRUCTURED-LOCATION;VALUE=URI;X-ADDRESS=Heartland Art Center 214 N Michigan St Plymouth IN United States;X-APPLE-RADIUS=500;X-TITLE=214 N Michigan St:geo:-86.30912,41.340975
END:VEVENT
BEGIN:VEVENT
DTSTART;TZID=America/Indiana/Indianapolis:20260216T181500
DTEND;TZID=America/Indiana/Indianapolis:20260216T190000
DTSTAMP:20260423T072205
CREATED:20251121T192402Z
LAST-MODIFIED:20260216T235749Z
UID:10000505-1771265700-1771268400@heartlandartgallery.com
SUMMARY:Acro
DESCRIPTION:
URL:https://heartlandartgallery.com/event/acro-11/
CATEGORIES:Classes
END:VEVENT
END:VCALENDAR