BEGIN:VCALENDAR
VERSION:2.0
PRODID:-//Heartland Art Center - ECPv6.15.20//NONSGML v1.0//EN
CALSCALE:GREGORIAN
METHOD:PUBLISH
X-WR-CALNAME:Heartland Art Center
X-ORIGINAL-URL:https://heartlandartgallery.com
X-WR-CALDESC:Events for Heartland Art Center
REFRESH-INTERVAL;VALUE=DURATION:PT1H
X-Robots-Tag:noindex
X-PUBLISHED-TTL:PT1H
BEGIN:VTIMEZONE
TZID:America/Indiana/Indianapolis
BEGIN:DAYLIGHT
TZOFFSETFROM:-0500
TZOFFSETTO:-0400
TZNAME:EDT
DTSTART:20250309T070000
END:DAYLIGHT
BEGIN:STANDARD
TZOFFSETFROM:-0400
TZOFFSETTO:-0500
TZNAME:EST
DTSTART:20251102T060000
END:STANDARD
BEGIN:DAYLIGHT
TZOFFSETFROM:-0500
TZOFFSETTO:-0400
TZNAME:EDT
DTSTART:20260308T070000
END:DAYLIGHT
BEGIN:STANDARD
TZOFFSETFROM:-0400
TZOFFSETTO:-0500
TZNAME:EST
DTSTART:20261101T060000
END:STANDARD
BEGIN:DAYLIGHT
TZOFFSETFROM:-0500
TZOFFSETTO:-0400
TZNAME:EDT
DTSTART:20270314T070000
END:DAYLIGHT
BEGIN:STANDARD
TZOFFSETFROM:-0400
TZOFFSETTO:-0500
TZNAME:EST
DTSTART:20271107T060000
END:STANDARD
END:VTIMEZONE
BEGIN:VEVENT
DTSTART;TZID=America/Indiana/Indianapolis:20260910T153000
DTEND;TZID=America/Indiana/Indianapolis:20260910T200000
DTSTAMP:20260421T163233
CREATED:20260119T165354Z
LAST-MODIFIED:20260223T173224Z
UID:10000749-1789054200-1789070400@heartlandartgallery.com
SUMMARY:Alex Jeffirs Piano Lessons
DESCRIPTION:
URL:https://heartlandartgallery.com/event/alex-jeffirs-piano-lessons-34/
CATEGORIES:Classes
END:VEVENT
BEGIN:VEVENT
DTSTART;TZID=America/Indiana/Indianapolis:20260910T170000
DTEND;TZID=America/Indiana/Indianapolis:20260910T200000
DTSTAMP:20260421T163233
CREATED:20251007T214150Z
LAST-MODIFIED:20251007T220735Z
UID:10000105-1789059600-1789070400@heartlandartgallery.com
SUMMARY:Heartland Executive Board Meeting
DESCRIPTION:
URL:https://heartlandartgallery.com/event/heartland-executive-board-meeting-12/
CATEGORIES:Events
END:VEVENT
END:VCALENDAR