BEGIN:VCALENDAR
VERSION:2.0
PRODID:-//Heartland Art Center - ECPv6.15.20//NONSGML v1.0//EN
CALSCALE:GREGORIAN
METHOD:PUBLISH
X-ORIGINAL-URL:https://heartlandartgallery.com
X-WR-CALDESC:Events for Heartland Art Center
REFRESH-INTERVAL;VALUE=DURATION:PT1H
X-Robots-Tag:noindex
X-PUBLISHED-TTL:PT1H
BEGIN:VTIMEZONE
TZID:America/Indiana/Indianapolis
BEGIN:DAYLIGHT
TZOFFSETFROM:-0500
TZOFFSETTO:-0400
TZNAME:EDT
DTSTART:20250309T070000
END:DAYLIGHT
BEGIN:STANDARD
TZOFFSETFROM:-0400
TZOFFSETTO:-0500
TZNAME:EST
DTSTART:20251102T060000
END:STANDARD
BEGIN:DAYLIGHT
TZOFFSETFROM:-0500
TZOFFSETTO:-0400
TZNAME:EDT
DTSTART:20260308T070000
END:DAYLIGHT
BEGIN:STANDARD
TZOFFSETFROM:-0400
TZOFFSETTO:-0500
TZNAME:EST
DTSTART:20261101T060000
END:STANDARD
BEGIN:DAYLIGHT
TZOFFSETFROM:-0500
TZOFFSETTO:-0400
TZNAME:EDT
DTSTART:20270314T070000
END:DAYLIGHT
BEGIN:STANDARD
TZOFFSETFROM:-0400
TZOFFSETTO:-0500
TZNAME:EST
DTSTART:20271107T060000
END:STANDARD
END:VTIMEZONE
BEGIN:VEVENT
DTSTART;TZID=America/Indiana/Indianapolis:20260601T174500
DTEND;TZID=America/Indiana/Indianapolis:20260601T183000
DTSTAMP:20260421T231928
CREATED:20251008T011820Z
LAST-MODIFIED:20251121T181817Z
UID:10000255-1780335900-1780338600@heartlandartgallery.com
SUMMARY:Mommy & Me Tumbling
DESCRIPTION:FELKE DANCE STUDIO PRESENTS MOMMY/DADDY & ME AT HEARTLAND ART CENTER \nEMAIL: desireefelke@gmail.com
URL:https://heartlandartgallery.com/event/mommy-me-tumbling-35/
LOCATION:Heartland Art Center\, 214 N Michigan St\, Plymouth\, IN\, United States
CATEGORIES:Classes
GEO:41.340975;-86.30912
X-APPLE-STRUCTURED-LOCATION;VALUE=URI;X-ADDRESS=Heartland Art Center 214 N Michigan St Plymouth IN United States;X-APPLE-RADIUS=500;X-TITLE=214 N Michigan St:geo:-86.30912,41.340975
END:VEVENT
BEGIN:VEVENT
DTSTART;TZID=America/Indiana/Indianapolis:20260601T173000
DTEND;TZID=America/Indiana/Indianapolis:20260601T181500
DTSTAMP:20260421T231928
CREATED:20251121T192412Z
LAST-MODIFIED:20260313T180217Z
UID:10000535-1780335000-1780337700@heartlandartgallery.com
SUMMARY:Tap Dancing
DESCRIPTION:FELKE DANCE STUDIO PRESENTS MOMMY/DADDY & ME AT HEARTLAND ART CENTER \nEMAIL: desireefelke@gmail.com
URL:https://heartlandartgallery.com/event/tap-dancing-26/
LOCATION:Heartland Art Center\, 214 N Michigan St\, Plymouth\, IN\, United States
CATEGORIES:Classes
GEO:41.340975;-86.30912
X-APPLE-STRUCTURED-LOCATION;VALUE=URI;X-ADDRESS=Heartland Art Center 214 N Michigan St Plymouth IN United States;X-APPLE-RADIUS=500;X-TITLE=214 N Michigan St:geo:-86.30912,41.340975
END:VEVENT
BEGIN:VEVENT
DTSTART;TZID=America/Indiana/Indianapolis:20260601T164500
DTEND;TZID=America/Indiana/Indianapolis:20260601T173000
DTSTAMP:20260421T231928
CREATED:20251008T011820Z
LAST-MODIFIED:20251121T181817Z
UID:10000254-1780332300-1780335000@heartlandartgallery.com
SUMMARY:Pre-School Acro
DESCRIPTION:Felke Dance Studio presents Pre-School Acro at Heartland Art Center
URL:https://heartlandartgallery.com/event/pre-school-acro-35/
LOCATION:Heartland Art Center\, 214 N Michigan St\, Plymouth\, IN\, United States
CATEGORIES:Classes
GEO:41.340975;-86.30912
X-APPLE-STRUCTURED-LOCATION;VALUE=URI;X-ADDRESS=Heartland Art Center 214 N Michigan St Plymouth IN United States;X-APPLE-RADIUS=500;X-TITLE=214 N Michigan St:geo:-86.30912,41.340975
END:VEVENT
BEGIN:VEVENT
DTSTART;TZID=America/Indiana/Indianapolis:20260529T180000
DTEND;TZID=America/Indiana/Indianapolis:20260529T200000
DTSTAMP:20260421T231928
CREATED:20251120T235052Z
LAST-MODIFIED:20260421T221647Z
UID:10000480-1780077600-1780084800@heartlandartgallery.com
SUMMARY:Small Wonders Closing Reception
DESCRIPTION:
URL:https://heartlandartgallery.com/event/small-wonders-closing-reception/
LOCATION:IN
CATEGORIES:Events
ATTACH;FMTTYPE=image/jpeg:https://heartlandartgallery.com/wp-content/uploads/2025/11/Small-Wonders-poster-A-scaled.jpg
END:VEVENT
BEGIN:VEVENT
DTSTART;TZID=America/Indiana/Indianapolis:20260528T153000
DTEND;TZID=America/Indiana/Indianapolis:20260528T200000
DTSTAMP:20260421T231928
CREATED:20260119T165344Z
LAST-MODIFIED:20260223T173140Z
UID:10000734-1779982200-1779998400@heartlandartgallery.com
SUMMARY:Alex Jeffirs Piano Lessons
DESCRIPTION:
URL:https://heartlandartgallery.com/event/alex-jeffirs-piano-lessons-19/
LOCATION:IN
CATEGORIES:Classes
END:VEVENT
BEGIN:VEVENT
DTSTART;TZID=America/Indiana/Indianapolis:20260527T174500
DTEND;TZID=America/Indiana/Indianapolis:20260527T183000
DTSTAMP:20260421T231928
CREATED:20260221T111427Z
LAST-MODIFIED:20260223T173138Z
UID:10000823-1779903900-1779906600@heartlandartgallery.com
SUMMARY:Canceled - Tumbling w/ Miss Kaleigh
DESCRIPTION:Felke Dance Studio presents Tumbling with Miss Kaleigh at Heartland Art CenterEmail to register:  desireefelke@gmail.com
URL:https://heartlandartgallery.com/event/canceled-tumbling-w-miss-kaleigh-14/
LOCATION:Heartland Art Center\, 214 N Michigan St\, Plymouth\, IN\, United States
CATEGORIES:Classes
GEO:41.340975;-86.30912
X-APPLE-STRUCTURED-LOCATION;VALUE=URI;X-ADDRESS=Heartland Art Center 214 N Michigan St Plymouth IN United States;X-APPLE-RADIUS=500;X-TITLE=214 N Michigan St:geo:-86.30912,41.340975
END:VEVENT
BEGIN:VEVENT
DTSTART;TZID=America/Indiana/Indianapolis:20260527T174500
DTEND;TZID=America/Indiana/Indianapolis:20260527T183000
DTSTAMP:20260421T231928
CREATED:20251008T011819Z
LAST-MODIFIED:20260221T100216Z
UID:10000252-1779903900-1779906600@heartlandartgallery.com
SUMMARY:Tumbling w/ Miss Kaleigh
DESCRIPTION:Felke Dance Studio presents Tumbling with Miss Kaleigh at Heartland Art CenterEmail to register:  desireefelke@gmail.com
URL:https://heartlandartgallery.com/event/tumbling-w-miss-kaleigh-34/
LOCATION:Heartland Art Center\, 214 N Michigan St\, Plymouth\, IN\, United States
CATEGORIES:Classes
GEO:41.340975;-86.30912
X-APPLE-STRUCTURED-LOCATION;VALUE=URI;X-ADDRESS=Heartland Art Center 214 N Michigan St Plymouth IN United States;X-APPLE-RADIUS=500;X-TITLE=214 N Michigan St:geo:-86.30912,41.340975
END:VEVENT
BEGIN:VEVENT
DTSTART;TZID=America/Indiana/Indianapolis:20260527T170000
DTEND;TZID=America/Indiana/Indianapolis:20260527T174500
DTSTAMP:20260421T231928
CREATED:20260221T111425Z
LAST-MODIFIED:20260223T173138Z
UID:10000822-1779901200-1779903900@heartlandartgallery.com
SUMMARY:Canceled - HipHop Dance Class
DESCRIPTION:Felke Dance Studio presents HipHop Dance Class at Heartland Art CenterEmail to register:  desireefelke@gmail.com
URL:https://heartlandartgallery.com/event/canceled-hiphop-dance-class-14/
LOCATION:Heartland Art Center\, 214 N Michigan St\, Plymouth\, IN\, United States
CATEGORIES:Classes
GEO:41.340975;-86.30912
X-APPLE-STRUCTURED-LOCATION;VALUE=URI;X-ADDRESS=Heartland Art Center 214 N Michigan St Plymouth IN United States;X-APPLE-RADIUS=500;X-TITLE=214 N Michigan St:geo:-86.30912,41.340975
END:VEVENT
BEGIN:VEVENT
DTSTART;TZID=America/Indiana/Indianapolis:20260527T170000
DTEND;TZID=America/Indiana/Indianapolis:20260527T174500
DTSTAMP:20260421T231928
CREATED:20251008T011820Z
LAST-MODIFIED:20260221T100217Z
UID:10000253-1779901200-1779903900@heartlandartgallery.com
SUMMARY:HipHop Dance Class
DESCRIPTION:Felke Dance Studio presents HipHop Dance Class at Heartland Art CenterEmail to register:  desireefelke@gmail.com
URL:https://heartlandartgallery.com/event/hiphop-dance-class-34/
LOCATION:Heartland Art Center\, 214 N Michigan St\, Plymouth\, IN\, United States
CATEGORIES:Classes
GEO:41.340975;-86.30912
X-APPLE-STRUCTURED-LOCATION;VALUE=URI;X-ADDRESS=Heartland Art Center 214 N Michigan St Plymouth IN United States;X-APPLE-RADIUS=500;X-TITLE=214 N Michigan St:geo:-86.30912,41.340975
END:VEVENT
BEGIN:VEVENT
DTSTART;TZID=America/Indiana/Indianapolis:20260525T181500
DTEND;TZID=America/Indiana/Indianapolis:20260525T190000
DTSTAMP:20260421T231928
CREATED:20251121T192412Z
LAST-MODIFIED:20260313T180216Z
UID:10000533-1779732900-1779735600@heartlandartgallery.com
SUMMARY:Acro
DESCRIPTION:
URL:https://heartlandartgallery.com/event/acro-25/
LOCATION:IN
CATEGORIES:Classes
END:VEVENT
BEGIN:VEVENT
DTSTART;TZID=America/Indiana/Indianapolis:20260525T180000
DTEND;TZID=America/Indiana/Indianapolis:20260525T200000
DTSTAMP:20260421T231928
CREATED:20260420T031255Z
LAST-MODIFIED:20260421T231231Z
UID:10001039-1779732000-1779739200@heartlandartgallery.com
SUMMARY:Advanced Acrylic Art Class
DESCRIPTION:Heartland Art Center \nClass Title:  Advanced Acrylic Art Class \nClass Date:  05/25/2026 \nTime:  6 – 8 p.m. \nInstructor:  Jon Richard Miller \nSize Limit:  No Limit \nAge Limit:  12 and Up \nThis class is designed for those artists who have already taken my acrylic painting class. Artist are to bring in their own inspiration piece their canvas and favorite brushes.: 
URL:https://heartlandartgallery.com/event/advanced-acrylic-art-class/
LOCATION:220 N Center St\, Plymouth\, IN\, United States
CATEGORIES:Classes
GEO:41.352997;-86.301486
END:VEVENT
BEGIN:VEVENT
DTSTART;TZID=America/Indiana/Indianapolis:20260525T180000
DTEND;TZID=America/Indiana/Indianapolis:20260525T200000
DTSTAMP:20260421T231928
CREATED:20251007T214100Z
LAST-MODIFIED:20251202T183414Z
UID:10000067-1779732000-1779739200@heartlandartgallery.com
SUMMARY:Advanced Acrylic Class
DESCRIPTION:
URL:https://heartlandartgallery.com/event/advanced-acrylic-class-7/
LOCATION:IN
CATEGORIES:Classes
END:VEVENT
BEGIN:VEVENT
DTSTART;TZID=America/Indiana/Indianapolis:20260525T174500
DTEND;TZID=America/Indiana/Indianapolis:20260525T183000
DTSTAMP:20260421T231928
CREATED:20251008T011819Z
LAST-MODIFIED:20251121T181816Z
UID:10000251-1779731100-1779733800@heartlandartgallery.com
SUMMARY:Mommy & Me Tumbling
DESCRIPTION:FELKE DANCE STUDIO PRESENTS MOMMY/DADDY & ME AT HEARTLAND ART CENTER \nEMAIL: desireefelke@gmail.com
URL:https://heartlandartgallery.com/event/mommy-me-tumbling-34/
LOCATION:Heartland Art Center\, 214 N Michigan St\, Plymouth\, IN\, United States
CATEGORIES:Classes
GEO:41.340975;-86.30912
X-APPLE-STRUCTURED-LOCATION;VALUE=URI;X-ADDRESS=Heartland Art Center 214 N Michigan St Plymouth IN United States;X-APPLE-RADIUS=500;X-TITLE=214 N Michigan St:geo:-86.30912,41.340975
END:VEVENT
BEGIN:VEVENT
DTSTART;TZID=America/Indiana/Indianapolis:20260525T173000
DTEND;TZID=America/Indiana/Indianapolis:20260525T181500
DTSTAMP:20260421T231928
CREATED:20251121T192411Z
LAST-MODIFIED:20260313T180216Z
UID:10000532-1779730200-1779732900@heartlandartgallery.com
SUMMARY:Tap Dancing
DESCRIPTION:FELKE DANCE STUDIO PRESENTS MOMMY/DADDY & ME AT HEARTLAND ART CENTER \nEMAIL: desireefelke@gmail.com
URL:https://heartlandartgallery.com/event/tap-dancing-25/
LOCATION:Heartland Art Center\, 214 N Michigan St\, Plymouth\, IN\, United States
CATEGORIES:Classes
GEO:41.340975;-86.30912
X-APPLE-STRUCTURED-LOCATION;VALUE=URI;X-ADDRESS=Heartland Art Center 214 N Michigan St Plymouth IN United States;X-APPLE-RADIUS=500;X-TITLE=214 N Michigan St:geo:-86.30912,41.340975
END:VEVENT
BEGIN:VEVENT
DTSTART;TZID=America/Indiana/Indianapolis:20260525T164500
DTEND;TZID=America/Indiana/Indianapolis:20260525T173000
DTSTAMP:20260421T231928
CREATED:20251008T011819Z
LAST-MODIFIED:20251121T181816Z
UID:10000250-1779727500-1779730200@heartlandartgallery.com
SUMMARY:Pre-School Acro
DESCRIPTION:Felke Dance Studio presents Pre-School Acro at Heartland Art Center
URL:https://heartlandartgallery.com/event/pre-school-acro-34/
LOCATION:Heartland Art Center\, 214 N Michigan St\, Plymouth\, IN\, United States
CATEGORIES:Classes
GEO:41.340975;-86.30912
X-APPLE-STRUCTURED-LOCATION;VALUE=URI;X-ADDRESS=Heartland Art Center 214 N Michigan St Plymouth IN United States;X-APPLE-RADIUS=500;X-TITLE=214 N Michigan St:geo:-86.30912,41.340975
END:VEVENT
BEGIN:VEVENT
DTSTART;TZID=America/Indiana/Indianapolis:20260522T100000
DTEND;TZID=America/Indiana/Indianapolis:20260522T130000
DTSTAMP:20260421T231928
CREATED:20260420T030815Z
LAST-MODIFIED:20260421T231231Z
UID:10001038-1779444000-1779454800@heartlandartgallery.com
SUMMARY:Felt Purse to fit a phone.
DESCRIPTION:Class Title:  Felt Purse \nDate:   5/22/2026  \nTime:  10-1 P.M. \nInstructor:  Kathy Zentz \nPrice:  $30 \nClass Limit:  8 \nAge Limit:  Adults \nFelt Purse to fit a phone.
URL:https://heartlandartgallery.com/event/felt-purse-to-fit-a-phone/
LOCATION:220 N Center St\, Plymouth\, IN\, United States
CATEGORIES:Classes
GEO:41.352997;-86.301486
END:VEVENT
BEGIN:VEVENT
DTSTART;TZID=America/Indiana/Indianapolis:20260521T180000
DTEND;TZID=America/Indiana/Indianapolis:20260521T200000
DTSTAMP:20260421T231928
CREATED:20260420T024950Z
LAST-MODIFIED:20260421T231231Z
UID:10001036-1779386400-1779393600@heartlandartgallery.com
SUMMARY:Laundry Day -  Watercolor
DESCRIPTION: Heartland Art Center \nClass Title:  Laundry Day – Watercolor \nDate:  5/21/2026  \nTime:  1-2 P.M. \nInstructor:  Marge Burkholder \nPrice:  $15 \nClass Size:  No Limit \nAge Limit:  Ages 12 and up \nTutorial in Basic watercolor mixing and brush techniques
URL:https://heartlandartgallery.com/event/laundry-day-watercolor/
LOCATION:220 N Center St\, Plymouth\, IN\, United States
CATEGORIES:Classes
GEO:41.352997;-86.301486
END:VEVENT
BEGIN:VEVENT
DTSTART;TZID=America/Indiana/Indianapolis:20260521T153000
DTEND;TZID=America/Indiana/Indianapolis:20260521T200000
DTSTAMP:20260421T231928
CREATED:20260119T165343Z
LAST-MODIFIED:20260223T173136Z
UID:10000733-1779377400-1779393600@heartlandartgallery.com
SUMMARY:Alex Jeffirs Piano Lessons
DESCRIPTION:
URL:https://heartlandartgallery.com/event/alex-jeffirs-piano-lessons-18/
LOCATION:IN
CATEGORIES:Classes
END:VEVENT
BEGIN:VEVENT
DTSTART;TZID=America/Indiana/Indianapolis:20260520T190000
DTEND;TZID=America/Indiana/Indianapolis:20260520T203000
DTSTAMP:20260421T231928
CREATED:20260420T025923Z
LAST-MODIFIED:20260421T231230Z
UID:10001037-1779303600-1779309000@heartlandartgallery.com
SUMMARY:Creative Writing
DESCRIPTION:Class Title:  Creative Writing \nClass Date:  5/20/2026  \nTime:  7:00 – 8:30 P.M. \nInstructor: Susan (Sue) Wilhelm \nPrice: $10 \nClass Size:  No Limit \nAge Limit:  Ages 18 and up (High school students welcome) \nGather with others who are interested in learning tools that help self-expression in creating one’s own story in various forms.
URL:https://heartlandartgallery.com/event/creative-writiting/
LOCATION:220 N Center St\, Plymouth\, IN\, United States
CATEGORIES:Classes
GEO:41.352997;-86.301486
END:VEVENT
BEGIN:VEVENT
DTSTART;TZID=America/Indiana/Indianapolis:20260520T174500
DTEND;TZID=America/Indiana/Indianapolis:20260520T183000
DTSTAMP:20260421T231928
CREATED:20260221T111423Z
LAST-MODIFIED:20260223T173136Z
UID:10000821-1779299100-1779301800@heartlandartgallery.com
SUMMARY:Canceled - Tumbling w/ Miss Kaleigh
DESCRIPTION:Felke Dance Studio presents Tumbling with Miss Kaleigh at Heartland Art CenterEmail to register:  desireefelke@gmail.com
URL:https://heartlandartgallery.com/event/canceled-tumbling-w-miss-kaleigh-13/
LOCATION:Heartland Art Center\, 214 N Michigan St\, Plymouth\, IN\, United States
CATEGORIES:Classes
GEO:41.340975;-86.30912
X-APPLE-STRUCTURED-LOCATION;VALUE=URI;X-ADDRESS=Heartland Art Center 214 N Michigan St Plymouth IN United States;X-APPLE-RADIUS=500;X-TITLE=214 N Michigan St:geo:-86.30912,41.340975
END:VEVENT
BEGIN:VEVENT
DTSTART;TZID=America/Indiana/Indianapolis:20260520T174500
DTEND;TZID=America/Indiana/Indianapolis:20260520T183000
DTSTAMP:20260421T231928
CREATED:20251008T011818Z
LAST-MODIFIED:20260221T100214Z
UID:10000248-1779299100-1779301800@heartlandartgallery.com
SUMMARY:Tumbling w/ Miss Kaleigh
DESCRIPTION:Felke Dance Studio presents Tumbling with Miss Kaleigh at Heartland Art CenterEmail to register:  desireefelke@gmail.com
URL:https://heartlandartgallery.com/event/tumbling-w-miss-kaleigh-33/
LOCATION:Heartland Art Center\, 214 N Michigan St\, Plymouth\, IN\, United States
CATEGORIES:Classes
GEO:41.340975;-86.30912
X-APPLE-STRUCTURED-LOCATION;VALUE=URI;X-ADDRESS=Heartland Art Center 214 N Michigan St Plymouth IN United States;X-APPLE-RADIUS=500;X-TITLE=214 N Michigan St:geo:-86.30912,41.340975
END:VEVENT
BEGIN:VEVENT
DTSTART;TZID=America/Indiana/Indianapolis:20260520T170000
DTEND;TZID=America/Indiana/Indianapolis:20260520T174500
DTSTAMP:20260421T231928
CREATED:20260221T111410Z
LAST-MODIFIED:20260223T173135Z
UID:10000820-1779296400-1779299100@heartlandartgallery.com
SUMMARY:Canceled - HipHop Dance Class
DESCRIPTION:Felke Dance Studio presents HipHop Dance Class at Heartland Art CenterEmail to register:  desireefelke@gmail.com
URL:https://heartlandartgallery.com/event/canceled-hiphop-dance-class-13/
LOCATION:Heartland Art Center\, 214 N Michigan St\, Plymouth\, IN\, United States
CATEGORIES:Classes
GEO:41.340975;-86.30912
X-APPLE-STRUCTURED-LOCATION;VALUE=URI;X-ADDRESS=Heartland Art Center 214 N Michigan St Plymouth IN United States;X-APPLE-RADIUS=500;X-TITLE=214 N Michigan St:geo:-86.30912,41.340975
END:VEVENT
BEGIN:VEVENT
DTSTART;TZID=America/Indiana/Indianapolis:20260520T170000
DTEND;TZID=America/Indiana/Indianapolis:20260520T174500
DTSTAMP:20260421T231928
CREATED:20251008T011819Z
LAST-MODIFIED:20260221T100214Z
UID:10000249-1779296400-1779299100@heartlandartgallery.com
SUMMARY:HipHop Dance Class
DESCRIPTION:Felke Dance Studio presents HipHop Dance Class at Heartland Art CenterEmail to register:  desireefelke@gmail.com
URL:https://heartlandartgallery.com/event/hiphop-dance-class-33/
LOCATION:Heartland Art Center\, 214 N Michigan St\, Plymouth\, IN\, United States
CATEGORIES:Classes
GEO:41.340975;-86.30912
X-APPLE-STRUCTURED-LOCATION;VALUE=URI;X-ADDRESS=Heartland Art Center 214 N Michigan St Plymouth IN United States;X-APPLE-RADIUS=500;X-TITLE=214 N Michigan St:geo:-86.30912,41.340975
END:VEVENT
BEGIN:VEVENT
DTSTART;TZID=America/Indiana/Indianapolis:20260518T181500
DTEND;TZID=America/Indiana/Indianapolis:20260518T190000
DTSTAMP:20260421T231928
CREATED:20251121T192411Z
LAST-MODIFIED:20260313T180215Z
UID:10000530-1779128100-1779130800@heartlandartgallery.com
SUMMARY:Acro
DESCRIPTION:
URL:https://heartlandartgallery.com/event/acro-24/
LOCATION:IN
CATEGORIES:Classes
END:VEVENT
BEGIN:VEVENT
DTSTART;TZID=America/Indiana/Indianapolis:20260518T180000
DTEND;TZID=America/Indiana/Indianapolis:20260518T200000
DTSTAMP:20260421T231928
CREATED:20260420T024950Z
LAST-MODIFIED:20260421T231230Z
UID:10001035-1779127200-1779134400@heartlandartgallery.com
SUMMARY:Path In the Woods - Acrylic Painting
DESCRIPTION:Heartland Art CenterClass Title:  Path in the Woods \nDate:  05/18/2026 \nTime:  6:00 – 8:00 p.m. \nInstructor:  Jon Richard Miller \nPrice:  $30 \nClass Size:  No Limit \nAge Limit:  12 and Up \nLearn to paint using various techniques with brushes and color.
URL:https://heartlandartgallery.com/event/path-in-the-woods-acrylic-painting/
LOCATION:220 N Center St\, Plymouth\, IN\, United States
CATEGORIES:Classes
GEO:41.352997;-86.301486
END:VEVENT
BEGIN:VEVENT
DTSTART;TZID=America/Indiana/Indianapolis:20260518T174500
DTEND;TZID=America/Indiana/Indianapolis:20260518T183000
DTSTAMP:20260421T231928
CREATED:20251008T011818Z
LAST-MODIFIED:20251121T181815Z
UID:10000247-1779126300-1779129000@heartlandartgallery.com
SUMMARY:Mommy & Me Tumbling
DESCRIPTION:FELKE DANCE STUDIO PRESENTS MOMMY/DADDY & ME AT HEARTLAND ART CENTER \nEMAIL: desireefelke@gmail.com
URL:https://heartlandartgallery.com/event/mommy-me-tumbling-33/
LOCATION:Heartland Art Center\, 214 N Michigan St\, Plymouth\, IN\, United States
CATEGORIES:Classes
GEO:41.340975;-86.30912
X-APPLE-STRUCTURED-LOCATION;VALUE=URI;X-ADDRESS=Heartland Art Center 214 N Michigan St Plymouth IN United States;X-APPLE-RADIUS=500;X-TITLE=214 N Michigan St:geo:-86.30912,41.340975
END:VEVENT
BEGIN:VEVENT
DTSTART;TZID=America/Indiana/Indianapolis:20260518T173000
DTEND;TZID=America/Indiana/Indianapolis:20260518T181500
DTSTAMP:20260421T231928
CREATED:20251121T192411Z
LAST-MODIFIED:20260313T180215Z
UID:10000531-1779125400-1779128100@heartlandartgallery.com
SUMMARY:Tap Dancing
DESCRIPTION:FELKE DANCE STUDIO PRESENTS MOMMY/DADDY & ME AT HEARTLAND ART CENTER \nEMAIL: desireefelke@gmail.com
URL:https://heartlandartgallery.com/event/tap-dancing-24/
LOCATION:Heartland Art Center\, 214 N Michigan St\, Plymouth\, IN\, United States
CATEGORIES:Classes
GEO:41.340975;-86.30912
X-APPLE-STRUCTURED-LOCATION;VALUE=URI;X-ADDRESS=Heartland Art Center 214 N Michigan St Plymouth IN United States;X-APPLE-RADIUS=500;X-TITLE=214 N Michigan St:geo:-86.30912,41.340975
END:VEVENT
BEGIN:VEVENT
DTSTART;TZID=America/Indiana/Indianapolis:20260518T164500
DTEND;TZID=America/Indiana/Indianapolis:20260518T173000
DTSTAMP:20260421T231928
CREATED:20251008T011818Z
LAST-MODIFIED:20251121T181815Z
UID:10000246-1779122700-1779125400@heartlandartgallery.com
SUMMARY:Pre-School Acro
DESCRIPTION:Felke Dance Studio presents Pre-School Acro at Heartland Art Center
URL:https://heartlandartgallery.com/event/pre-school-acro-33/
LOCATION:Heartland Art Center\, 214 N Michigan St\, Plymouth\, IN\, United States
CATEGORIES:Classes
GEO:41.340975;-86.30912
X-APPLE-STRUCTURED-LOCATION;VALUE=URI;X-ADDRESS=Heartland Art Center 214 N Michigan St Plymouth IN United States;X-APPLE-RADIUS=500;X-TITLE=214 N Michigan St:geo:-86.30912,41.340975
END:VEVENT
BEGIN:VEVENT
DTSTART;TZID=America/Indiana/Indianapolis:20260515T173000
DTEND;TZID=America/Indiana/Indianapolis:20260515T203000
DTSTAMP:20260421T231928
CREATED:20260420T023706Z
LAST-MODIFIED:20260421T231230Z
UID:10001034-1778866200-1778877000@heartlandartgallery.com
SUMMARY:Stained Glass Bird in a 6" Ring
DESCRIPTION:Class Title:  Stained Glass Bird in a 6″ Ring \nDate:  05/15/2026 \nTime:  5:30-8:30 p.m. \nInstructor:  Cindy Carter \nPrice:  $45 \nClass Limit:  8 \nAge Limit:  Adults \nLearn to cut\, foil and solder a stained glass bird in your choice of colors and design and attach it to a 6″ metal ring with chain to hang.  Add leaves and wire embellishments to suit your taste.
URL:https://heartlandartgallery.com/event/stained-glass-bird-in-a-6-ring/
LOCATION:220 N Center St\, Plymouth\, IN\, United States
CATEGORIES:Classes
GEO:41.352997;-86.301486
END:VEVENT
BEGIN:VEVENT
DTSTART;TZID=America/Indiana/Indianapolis:20260514T170000
DTEND;TZID=America/Indiana/Indianapolis:20260514T200000
DTSTAMP:20260421T231928
CREATED:20251007T214149Z
LAST-MODIFIED:20251007T220734Z
UID:10000101-1778778000-1778788800@heartlandartgallery.com
SUMMARY:Heartland Executive Board Meeting
DESCRIPTION:
URL:https://heartlandartgallery.com/event/heartland-executive-board-meeting-8/
LOCATION:IN
CATEGORIES:Events
END:VEVENT
END:VCALENDAR