BEGIN:VCALENDAR
VERSION:2.0
PRODID:-//Heartland Art Center - ECPv6.15.20//NONSGML v1.0//EN
CALSCALE:GREGORIAN
METHOD:PUBLISH
X-WR-CALNAME:Heartland Art Center
X-ORIGINAL-URL:https://heartlandartgallery.com
X-WR-CALDESC:Events for Heartland Art Center
REFRESH-INTERVAL;VALUE=DURATION:PT1H
X-Robots-Tag:noindex
X-PUBLISHED-TTL:PT1H
BEGIN:VTIMEZONE
TZID:America/Indiana/Indianapolis
BEGIN:DAYLIGHT
TZOFFSETFROM:-0500
TZOFFSETTO:-0400
TZNAME:EDT
DTSTART:20250309T070000
END:DAYLIGHT
BEGIN:STANDARD
TZOFFSETFROM:-0400
TZOFFSETTO:-0500
TZNAME:EST
DTSTART:20251102T060000
END:STANDARD
BEGIN:DAYLIGHT
TZOFFSETFROM:-0500
TZOFFSETTO:-0400
TZNAME:EDT
DTSTART:20260308T070000
END:DAYLIGHT
BEGIN:STANDARD
TZOFFSETFROM:-0400
TZOFFSETTO:-0500
TZNAME:EST
DTSTART:20261101T060000
END:STANDARD
BEGIN:DAYLIGHT
TZOFFSETFROM:-0500
TZOFFSETTO:-0400
TZNAME:EDT
DTSTART:20270314T070000
END:DAYLIGHT
BEGIN:STANDARD
TZOFFSETFROM:-0400
TZOFFSETTO:-0500
TZNAME:EST
DTSTART:20271107T060000
END:STANDARD
END:VTIMEZONE
BEGIN:VEVENT
DTSTART;TZID=America/Indiana/Indianapolis:20260105T164500
DTEND;TZID=America/Indiana/Indianapolis:20260105T173000
DTSTAMP:20260424T060714
CREATED:20251008T011800Z
LAST-MODIFIED:20251121T181816Z
UID:10000170-1767631500-1767634200@heartlandartgallery.com
SUMMARY:Pre-School Acro
DESCRIPTION:Felke Dance Studio presents Pre-School Acro at Heartland Art Center
URL:https://heartlandartgallery.com/event/pre-school-acro-14/
LOCATION:Heartland Art Center\, 214 N Michigan St\, Plymouth\, IN\, United States
CATEGORIES:Classes
GEO:41.340975;-86.30912
X-APPLE-STRUCTURED-LOCATION;VALUE=URI;X-ADDRESS=Heartland Art Center 214 N Michigan St Plymouth IN United States;X-APPLE-RADIUS=500;X-TITLE=214 N Michigan St:geo:-86.30912,41.340975
END:VEVENT
BEGIN:VEVENT
DTSTART;TZID=America/Indiana/Indianapolis:20260105T173000
DTEND;TZID=America/Indiana/Indianapolis:20260105T181500
DTSTAMP:20260424T060714
CREATED:20251121T192358Z
LAST-MODIFIED:20260105T231224Z
UID:10000492-1767634200-1767636900@heartlandartgallery.com
SUMMARY:Tap Dancing
DESCRIPTION:FELKE DANCE STUDIO PRESENTS MOMMY/DADDY & ME AT HEARTLAND ART CENTER \nEMAIL: desireefelke@gmail.com
URL:https://heartlandartgallery.com/event/tap-dancing-5/
LOCATION:Heartland Art Center\, 214 N Michigan St\, Plymouth\, IN\, United States
CATEGORIES:Classes
GEO:41.340975;-86.30912
X-APPLE-STRUCTURED-LOCATION;VALUE=URI;X-ADDRESS=Heartland Art Center 214 N Michigan St Plymouth IN United States;X-APPLE-RADIUS=500;X-TITLE=214 N Michigan St:geo:-86.30912,41.340975
END:VEVENT
BEGIN:VEVENT
DTSTART;TZID=America/Indiana/Indianapolis:20260105T174500
DTEND;TZID=America/Indiana/Indianapolis:20260105T183000
DTSTAMP:20260424T060714
CREATED:20251008T011800Z
LAST-MODIFIED:20251121T181816Z
UID:10000171-1767635100-1767637800@heartlandartgallery.com
SUMMARY:Mommy & Me Tumbling
DESCRIPTION:FELKE DANCE STUDIO PRESENTS MOMMY/DADDY & ME AT HEARTLAND ART CENTER \nEMAIL: desireefelke@gmail.com
URL:https://heartlandartgallery.com/event/mommy-me-tumbling-14/
LOCATION:Heartland Art Center\, 214 N Michigan St\, Plymouth\, IN\, United States
CATEGORIES:Classes
GEO:41.340975;-86.30912
X-APPLE-STRUCTURED-LOCATION;VALUE=URI;X-ADDRESS=Heartland Art Center 214 N Michigan St Plymouth IN United States;X-APPLE-RADIUS=500;X-TITLE=214 N Michigan St:geo:-86.30912,41.340975
END:VEVENT
BEGIN:VEVENT
DTSTART;TZID=America/Indiana/Indianapolis:20260105T180000
DTEND;TZID=America/Indiana/Indianapolis:20260105T200000
DTSTAMP:20260424T060714
CREATED:20251202T162119Z
LAST-MODIFIED:20260106T001225Z
UID:10000639-1767636000-1767643200@heartlandartgallery.com
SUMMARY:Abstract Acrylic Painting Class
DESCRIPTION:
URL:https://heartlandartgallery.com/event/abstract-acrylic-painting-class/
LOCATION:Heartland Art Center\, 214 N Michigan St\, Plymouth\, IN\, United States
CATEGORIES:Classes
ATTACH;FMTTYPE=image/jpeg:https://heartlandartgallery.com/wp-content/uploads/2025/12/Abstract-Acrylic-Painting-Jon-M.jpg
GEO:41.340975;-86.30912
X-APPLE-STRUCTURED-LOCATION;VALUE=URI;X-ADDRESS=Heartland Art Center 214 N Michigan St Plymouth IN United States;X-APPLE-RADIUS=500;X-TITLE=214 N Michigan St:geo:-86.30912,41.340975
END:VEVENT
BEGIN:VEVENT
DTSTART;TZID=America/Indiana/Indianapolis:20260105T181500
DTEND;TZID=America/Indiana/Indianapolis:20260105T190000
DTSTAMP:20260424T060714
CREATED:20251121T192358Z
LAST-MODIFIED:20260105T231224Z
UID:10000493-1767636900-1767639600@heartlandartgallery.com
SUMMARY:Acro
DESCRIPTION:
URL:https://heartlandartgallery.com/event/acro-5/
CATEGORIES:Classes
END:VEVENT
BEGIN:VEVENT
DTSTART;TZID=America/Indiana/Indianapolis:20260106T160000
DTEND;TZID=America/Indiana/Indianapolis:20260106T180000
DTSTAMP:20260424T060714
CREATED:20251205T152818Z
LAST-MODIFIED:20260106T223303Z
UID:10000658-1767715200-1767722400@heartlandartgallery.com
SUMMARY:Dramatic Fantatics Youth Theatre Course
DESCRIPTION:
URL:https://heartlandartgallery.com/event/dramatic-fantatics-youth-theatre-course/
LOCATION:Heartland Art Center\, 214 N Michigan St\, Plymouth\, IN\, United States
CATEGORIES:Classes
GEO:41.340975;-86.30912
X-APPLE-STRUCTURED-LOCATION;VALUE=URI;X-ADDRESS=Heartland Art Center 214 N Michigan St Plymouth IN United States;X-APPLE-RADIUS=500;X-TITLE=214 N Michigan St:geo:-86.30912,41.340975
END:VEVENT
BEGIN:VEVENT
DTSTART;TZID=America/Indiana/Indianapolis:20260107T170000
DTEND;TZID=America/Indiana/Indianapolis:20260107T174500
DTSTAMP:20260424T060714
CREATED:20251008T011801Z
LAST-MODIFIED:20260107T215038Z
UID:10000173-1767805200-1767807900@heartlandartgallery.com
SUMMARY:HipHop Dance Class
DESCRIPTION:Felke Dance Studio presents HipHop Dance Class at Heartland Art CenterEmail to register:  desireefelke@gmail.com
URL:https://heartlandartgallery.com/event/hiphop-dance-class-14/
LOCATION:Heartland Art Center\, 214 N Michigan St\, Plymouth\, IN\, United States
CATEGORIES:Classes
GEO:41.340975;-86.30912
X-APPLE-STRUCTURED-LOCATION;VALUE=URI;X-ADDRESS=Heartland Art Center 214 N Michigan St Plymouth IN United States;X-APPLE-RADIUS=500;X-TITLE=214 N Michigan St:geo:-86.30912,41.340975
END:VEVENT
BEGIN:VEVENT
DTSTART;TZID=America/Indiana/Indianapolis:20260107T174500
DTEND;TZID=America/Indiana/Indianapolis:20260107T183000
DTSTAMP:20260424T060714
CREATED:20251008T011800Z
LAST-MODIFIED:20260107T225034Z
UID:10000172-1767807900-1767810600@heartlandartgallery.com
SUMMARY:Tumbling w/ Miss Kaleigh
DESCRIPTION:Felke Dance Studio presents Tumbling with Miss Kaleigh at Heartland Art CenterEmail to register:  desireefelke@gmail.com
URL:https://heartlandartgallery.com/event/tumbling-w-miss-kaleigh-14/
LOCATION:Heartland Art Center\, 214 N Michigan St\, Plymouth\, IN\, United States
CATEGORIES:Classes
GEO:41.340975;-86.30912
X-APPLE-STRUCTURED-LOCATION;VALUE=URI;X-ADDRESS=Heartland Art Center 214 N Michigan St Plymouth IN United States;X-APPLE-RADIUS=500;X-TITLE=214 N Michigan St:geo:-86.30912,41.340975
END:VEVENT
BEGIN:VEVENT
DTSTART;TZID=America/Indiana/Indianapolis:20260109T103000
DTEND;TZID=America/Indiana/Indianapolis:20260109T120000
DTSTAMP:20260424T060714
CREATED:20251202T162123Z
LAST-MODIFIED:20260109T160845Z
UID:10000640-1767954600-1767960000@heartlandartgallery.com
SUMMARY:Felted Bowl Class
DESCRIPTION:
URL:https://heartlandartgallery.com/event/felted-bowl-class/
LOCATION:Heartland Art Center\, 214 N Michigan St\, Plymouth\, IN\, United States
CATEGORIES:Classes
ATTACH;FMTTYPE=image/jpeg:https://heartlandartgallery.com/wp-content/uploads/2025/12/Felt-Bowls-Kathy-Z.jpg
GEO:41.340975;-86.30912
X-APPLE-STRUCTURED-LOCATION;VALUE=URI;X-ADDRESS=Heartland Art Center 214 N Michigan St Plymouth IN United States;X-APPLE-RADIUS=500;X-TITLE=214 N Michigan St:geo:-86.30912,41.340975
END:VEVENT
BEGIN:VEVENT
DTSTART;TZID=America/Indiana/Indianapolis:20260109T130000
DTEND;TZID=America/Indiana/Indianapolis:20260109T150000
DTSTAMP:20260424T060714
CREATED:20251202T162123Z
LAST-MODIFIED:20260109T192017Z
UID:10000641-1767963600-1767970800@heartlandartgallery.com
SUMMARY:Valentines Clay Plate Class - Session 1
DESCRIPTION:
URL:https://heartlandartgallery.com/event/valentines-clay-plate-class-session-1/
LOCATION:Heartland Art Center\, 214 N Michigan St\, Plymouth\, IN\, United States
CATEGORIES:Classes
ATTACH;FMTTYPE=image/jpeg:https://heartlandartgallery.com/wp-content/uploads/2025/12/Valentines-clay-plate-Kathy-Z.jpg
GEO:41.340975;-86.30912
X-APPLE-STRUCTURED-LOCATION;VALUE=URI;X-ADDRESS=Heartland Art Center 214 N Michigan St Plymouth IN United States;X-APPLE-RADIUS=500;X-TITLE=214 N Michigan St:geo:-86.30912,41.340975
END:VEVENT
BEGIN:VEVENT
DTSTART;TZID=America/Indiana/Indianapolis:20260110T113000
DTEND;TZID=America/Indiana/Indianapolis:20260110T123000
DTSTAMP:20260424T060714
CREATED:20251009T215211Z
LAST-MODIFIED:20260109T221930Z
UID:10000392-1768044600-1768048200@heartlandartgallery.com
SUMMARY:2nd Saturday Sounds at the Center
DESCRIPTION:
URL:https://heartlandartgallery.com/event/2nd-saturday-sounds-at-the-center-3/
LOCATION:Heartland Art Center\, 214 N Michigan St\, Plymouth\, IN\, United States
CATEGORIES:Events
GEO:41.340975;-86.30912
X-APPLE-STRUCTURED-LOCATION;VALUE=URI;X-ADDRESS=Heartland Art Center 214 N Michigan St Plymouth IN United States;X-APPLE-RADIUS=500;X-TITLE=214 N Michigan St:geo:-86.30912,41.340975
END:VEVENT
BEGIN:VEVENT
DTSTART;TZID=America/Indiana/Indianapolis:20260110T130000
DTEND;TZID=America/Indiana/Indianapolis:20260110T160000
DTSTAMP:20260424T060714
CREATED:20251202T162123Z
LAST-MODIFIED:20260110T205937Z
UID:10000642-1768050000-1768060800@heartlandartgallery.com
SUMMARY:Glass on Glass Mosaic Session 1
DESCRIPTION:
URL:https://heartlandartgallery.com/event/glass-on-glass-mosaic-session-1/
LOCATION:Heartland Art Center\, 214 N Michigan St\, Plymouth\, IN\, United States
CATEGORIES:Classes
ATTACH;FMTTYPE=image/jpeg:https://heartlandartgallery.com/wp-content/uploads/2025/12/Glass-Mosaic-Cindy-C.jpg
GEO:41.340975;-86.30912
X-APPLE-STRUCTURED-LOCATION;VALUE=URI;X-ADDRESS=Heartland Art Center 214 N Michigan St Plymouth IN United States;X-APPLE-RADIUS=500;X-TITLE=214 N Michigan St:geo:-86.30912,41.340975
END:VEVENT
BEGIN:VEVENT
DTSTART;TZID=America/Indiana/Indianapolis:20260111T140000
DTEND;TZID=America/Indiana/Indianapolis:20260111T163000
DTSTAMP:20260424T060714
CREATED:20251202T162123Z
LAST-MODIFIED:20260111T212835Z
UID:10000643-1768140000-1768149000@heartlandartgallery.com
SUMMARY:Close-Up & Macro Magic: Mobile Phone Photography
DESCRIPTION:
URL:https://heartlandartgallery.com/event/close-up-macro-magic-mobile-phone-photography/
LOCATION:Heartland Art Center\, 214 N Michigan St\, Plymouth\, IN\, United States
CATEGORIES:Classes
ATTACH;FMTTYPE=image/jpeg:https://heartlandartgallery.com/wp-content/uploads/2025/12/Close-up-Magic-phone-Brenda-B.jpg
GEO:41.340975;-86.30912
X-APPLE-STRUCTURED-LOCATION;VALUE=URI;X-ADDRESS=Heartland Art Center 214 N Michigan St Plymouth IN United States;X-APPLE-RADIUS=500;X-TITLE=214 N Michigan St:geo:-86.30912,41.340975
END:VEVENT
END:VCALENDAR