BEGIN:VCALENDAR
VERSION:2.0
PRODID:-//Heartland Art Center - ECPv6.15.20//NONSGML v1.0//EN
CALSCALE:GREGORIAN
METHOD:PUBLISH
X-WR-CALNAME:Heartland Art Center
X-ORIGINAL-URL:https://heartlandartgallery.com
X-WR-CALDESC:Events for Heartland Art Center
REFRESH-INTERVAL;VALUE=DURATION:PT1H
X-Robots-Tag:noindex
X-PUBLISHED-TTL:PT1H
BEGIN:VTIMEZONE
TZID:America/Indiana/Indianapolis
BEGIN:DAYLIGHT
TZOFFSETFROM:-0500
TZOFFSETTO:-0400
TZNAME:EDT
DTSTART:20250309T070000
END:DAYLIGHT
BEGIN:STANDARD
TZOFFSETFROM:-0400
TZOFFSETTO:-0500
TZNAME:EST
DTSTART:20251102T060000
END:STANDARD
BEGIN:DAYLIGHT
TZOFFSETFROM:-0500
TZOFFSETTO:-0400
TZNAME:EDT
DTSTART:20260308T070000
END:DAYLIGHT
BEGIN:STANDARD
TZOFFSETFROM:-0400
TZOFFSETTO:-0500
TZNAME:EST
DTSTART:20261101T060000
END:STANDARD
BEGIN:DAYLIGHT
TZOFFSETFROM:-0500
TZOFFSETTO:-0400
TZNAME:EDT
DTSTART:20270314T070000
END:DAYLIGHT
BEGIN:STANDARD
TZOFFSETFROM:-0400
TZOFFSETTO:-0500
TZNAME:EST
DTSTART:20271107T060000
END:STANDARD
END:VTIMEZONE
BEGIN:VEVENT
DTSTART;TZID=America/Indiana/Indianapolis:20260119T164500
DTEND;TZID=America/Indiana/Indianapolis:20260119T173000
DTSTAMP:20260424T104840
CREATED:20251008T011802Z
LAST-MODIFIED:20251121T181829Z
UID:10000178-1768841100-1768843800@heartlandartgallery.com
SUMMARY:Pre-School Acro
DESCRIPTION:Felke Dance Studio presents Pre-School Acro at Heartland Art Center
URL:https://heartlandartgallery.com/event/pre-school-acro-16/
LOCATION:Heartland Art Center\, 214 N Michigan St\, Plymouth\, IN\, United States
CATEGORIES:Classes
GEO:41.340975;-86.30912
X-APPLE-STRUCTURED-LOCATION;VALUE=URI;X-ADDRESS=Heartland Art Center 214 N Michigan St Plymouth IN United States;X-APPLE-RADIUS=500;X-TITLE=214 N Michigan St:geo:-86.30912,41.340975
END:VEVENT
BEGIN:VEVENT
DTSTART;TZID=America/Indiana/Indianapolis:20260119T173000
DTEND;TZID=America/Indiana/Indianapolis:20260119T181500
DTSTAMP:20260424T104840
CREATED:20251121T192400Z
LAST-MODIFIED:20260119T231337Z
UID:10000497-1768843800-1768846500@heartlandartgallery.com
SUMMARY:Tap Dancing
DESCRIPTION:FELKE DANCE STUDIO PRESENTS MOMMY/DADDY & ME AT HEARTLAND ART CENTER \nEMAIL: desireefelke@gmail.com
URL:https://heartlandartgallery.com/event/tap-dancing-7/
LOCATION:Heartland Art Center\, 214 N Michigan St\, Plymouth\, IN\, United States
CATEGORIES:Classes
GEO:41.340975;-86.30912
X-APPLE-STRUCTURED-LOCATION;VALUE=URI;X-ADDRESS=Heartland Art Center 214 N Michigan St Plymouth IN United States;X-APPLE-RADIUS=500;X-TITLE=214 N Michigan St:geo:-86.30912,41.340975
END:VEVENT
BEGIN:VEVENT
DTSTART;TZID=America/Indiana/Indianapolis:20260119T174500
DTEND;TZID=America/Indiana/Indianapolis:20260119T183000
DTSTAMP:20260424T104840
CREATED:20251008T011802Z
LAST-MODIFIED:20251121T181829Z
UID:10000179-1768844700-1768847400@heartlandartgallery.com
SUMMARY:Mommy & Me Tumbling
DESCRIPTION:FELKE DANCE STUDIO PRESENTS MOMMY/DADDY & ME AT HEARTLAND ART CENTER \nEMAIL: desireefelke@gmail.com
URL:https://heartlandartgallery.com/event/mommy-me-tumbling-16/
LOCATION:Heartland Art Center\, 214 N Michigan St\, Plymouth\, IN\, United States
CATEGORIES:Classes
GEO:41.340975;-86.30912
X-APPLE-STRUCTURED-LOCATION;VALUE=URI;X-ADDRESS=Heartland Art Center 214 N Michigan St Plymouth IN United States;X-APPLE-RADIUS=500;X-TITLE=214 N Michigan St:geo:-86.30912,41.340975
END:VEVENT
BEGIN:VEVENT
DTSTART;TZID=America/Indiana/Indianapolis:20260119T180000
DTEND;TZID=America/Indiana/Indianapolis:20260119T200000
DTSTAMP:20260424T104840
CREATED:20251202T162126Z
LAST-MODIFIED:20260120T001355Z
UID:10000652-1768845600-1768852800@heartlandartgallery.com
SUMMARY:Acrylic Painting Class
DESCRIPTION:
URL:https://heartlandartgallery.com/event/advanced-acrylic-painting-class/
LOCATION:Heartland Art Center\, 214 N Michigan St\, Plymouth\, IN\, United States
CATEGORIES:Classes
ATTACH;FMTTYPE=image/png:https://heartlandartgallery.com/wp-content/uploads/2025/12/1-1.png
GEO:41.340975;-86.30912
X-APPLE-STRUCTURED-LOCATION;VALUE=URI;X-ADDRESS=Heartland Art Center 214 N Michigan St Plymouth IN United States;X-APPLE-RADIUS=500;X-TITLE=214 N Michigan St:geo:-86.30912,41.340975
END:VEVENT
BEGIN:VEVENT
DTSTART;TZID=America/Indiana/Indianapolis:20260119T181500
DTEND;TZID=America/Indiana/Indianapolis:20260119T190000
DTSTAMP:20260424T104840
CREATED:20251121T192400Z
LAST-MODIFIED:20260119T231337Z
UID:10000496-1768846500-1768849200@heartlandartgallery.com
SUMMARY:Acro
DESCRIPTION:
URL:https://heartlandartgallery.com/event/acro-7/
CATEGORIES:Classes
END:VEVENT
BEGIN:VEVENT
DTSTART;TZID=America/Indiana/Indianapolis:20260120T160000
DTEND;TZID=America/Indiana/Indianapolis:20260120T180000
DTSTAMP:20260424T104840
CREATED:20251205T152845Z
LAST-MODIFIED:20260120T224634Z
UID:10000660-1768924800-1768932000@heartlandartgallery.com
SUMMARY:Dramatic Fantatics Youth Theatre Course
DESCRIPTION:
URL:https://heartlandartgallery.com/event/dramatic-fantatics-youth-theatre-course-3/
LOCATION:Heartland Art Center\, 214 N Michigan St\, Plymouth\, IN\, United States
CATEGORIES:Classes
GEO:41.340975;-86.30912
X-APPLE-STRUCTURED-LOCATION;VALUE=URI;X-ADDRESS=Heartland Art Center 214 N Michigan St Plymouth IN United States;X-APPLE-RADIUS=500;X-TITLE=214 N Michigan St:geo:-86.30912,41.340975
END:VEVENT
BEGIN:VEVENT
DTSTART;TZID=America/Indiana/Indianapolis:20260121T170000
DTEND;TZID=America/Indiana/Indianapolis:20260121T174500
DTSTAMP:20260424T104840
CREATED:20251008T011802Z
LAST-MODIFIED:20260121T215836Z
UID:10000180-1769014800-1769017500@heartlandartgallery.com
SUMMARY:HipHop Dance Class
DESCRIPTION:Felke Dance Studio presents HipHop Dance Class at Heartland Art CenterEmail to register:  desireefelke@gmail.com
URL:https://heartlandartgallery.com/event/hiphop-dance-class-16/
LOCATION:Heartland Art Center\, 214 N Michigan St\, Plymouth\, IN\, United States
CATEGORIES:Classes
GEO:41.340975;-86.30912
X-APPLE-STRUCTURED-LOCATION;VALUE=URI;X-ADDRESS=Heartland Art Center 214 N Michigan St Plymouth IN United States;X-APPLE-RADIUS=500;X-TITLE=214 N Michigan St:geo:-86.30912,41.340975
END:VEVENT
BEGIN:VEVENT
DTSTART;TZID=America/Indiana/Indianapolis:20260121T174500
DTEND;TZID=America/Indiana/Indianapolis:20260121T183000
DTSTAMP:20260424T104840
CREATED:20251008T011803Z
LAST-MODIFIED:20260121T230023Z
UID:10000181-1769017500-1769020200@heartlandartgallery.com
SUMMARY:Tumbling w/ Miss Kaleigh
DESCRIPTION:Felke Dance Studio presents Tumbling with Miss Kaleigh at Heartland Art CenterEmail to register:  desireefelke@gmail.com
URL:https://heartlandartgallery.com/event/tumbling-w-miss-kaleigh-16/
LOCATION:Heartland Art Center\, 214 N Michigan St\, Plymouth\, IN\, United States
CATEGORIES:Classes
GEO:41.340975;-86.30912
X-APPLE-STRUCTURED-LOCATION;VALUE=URI;X-ADDRESS=Heartland Art Center 214 N Michigan St Plymouth IN United States;X-APPLE-RADIUS=500;X-TITLE=214 N Michigan St:geo:-86.30912,41.340975
END:VEVENT
BEGIN:VEVENT
DTSTART;TZID=America/Indiana/Indianapolis:20260122T153000
DTEND;TZID=America/Indiana/Indianapolis:20260122T200000
DTSTAMP:20260424T104840
CREATED:20260119T165315Z
LAST-MODIFIED:20260123T001143Z
UID:10000716-1769095800-1769112000@heartlandartgallery.com
SUMMARY:Alex Jeffirs Piano Lessons
DESCRIPTION:
URL:https://heartlandartgallery.com/event/alex-jeffirs-piano-lessons/
CATEGORIES:Classes
END:VEVENT
BEGIN:VEVENT
DTSTART;TZID=America/Indiana/Indianapolis:20260123T130000
DTEND;TZID=America/Indiana/Indianapolis:20260123T150000
DTSTAMP:20260424T104840
CREATED:20251202T162125Z
LAST-MODIFIED:20260123T190315Z
UID:10000649-1769173200-1769180400@heartlandartgallery.com
SUMMARY:Valentines Clay Plate Class - Session 2
DESCRIPTION:
URL:https://heartlandartgallery.com/event/valentines-clay-plate-class-session-2/
LOCATION:Heartland Art Center\, 214 N Michigan St\, Plymouth\, IN\, United States
CATEGORIES:Classes
ATTACH;FMTTYPE=image/jpeg:https://heartlandartgallery.com/wp-content/uploads/2025/12/Valentines-clay-plate-Kathy-Z.jpg
GEO:41.340975;-86.30912
X-APPLE-STRUCTURED-LOCATION;VALUE=URI;X-ADDRESS=Heartland Art Center 214 N Michigan St Plymouth IN United States;X-APPLE-RADIUS=500;X-TITLE=214 N Michigan St:geo:-86.30912,41.340975
END:VEVENT
BEGIN:VEVENT
DTSTART;TZID=America/Indiana/Indianapolis:20260124T130000
DTEND;TZID=America/Indiana/Indianapolis:20260124T150000
DTSTAMP:20260424T104840
CREATED:20251202T162126Z
LAST-MODIFIED:20260124T195051Z
UID:10000650-1769259600-1769266800@heartlandartgallery.com
SUMMARY:Glass on Glass Mosaic Session 3
DESCRIPTION:
URL:https://heartlandartgallery.com/event/glass-on-glass-mosaic-session-3/
LOCATION:Heartland Art Center\, 214 N Michigan St\, Plymouth\, IN\, United States
CATEGORIES:Classes
ATTACH;FMTTYPE=image/jpeg:https://heartlandartgallery.com/wp-content/uploads/2025/12/Glass-Mosaic-Cindy-C.jpg
GEO:41.340975;-86.30912
X-APPLE-STRUCTURED-LOCATION;VALUE=URI;X-ADDRESS=Heartland Art Center 214 N Michigan St Plymouth IN United States;X-APPLE-RADIUS=500;X-TITLE=214 N Michigan St:geo:-86.30912,41.340975
END:VEVENT
BEGIN:VEVENT
DTSTART;TZID=America/Indiana/Indianapolis:20260124T180000
DTEND;TZID=America/Indiana/Indianapolis:20260124T200000
DTSTAMP:20260424T104840
CREATED:20251120T235038Z
LAST-MODIFIED:20260124T223646Z
UID:10000476-1769277600-1769284800@heartlandartgallery.com
SUMMARY:The Artist's Table
DESCRIPTION:
URL:https://heartlandartgallery.com/event/the-artists-table/
LOCATION:Heartland Art Center\, 214 N Michigan St\, Plymouth\, IN\, United States
CATEGORIES:Events
GEO:41.340975;-86.30912
X-APPLE-STRUCTURED-LOCATION;VALUE=URI;X-ADDRESS=Heartland Art Center 214 N Michigan St Plymouth IN United States;X-APPLE-RADIUS=500;X-TITLE=214 N Michigan St:geo:-86.30912,41.340975
END:VEVENT
BEGIN:VEVENT
DTSTART;TZID=America/Indiana/Indianapolis:20260125T140000
DTEND;TZID=America/Indiana/Indianapolis:20260125T163000
DTSTAMP:20260424T104840
CREATED:20251202T162126Z
LAST-MODIFIED:20260125T203406Z
UID:10000651-1769349600-1769358600@heartlandartgallery.com
SUMMARY:7-Day Food Challenge - Cell Phone Photography
DESCRIPTION:
URL:https://heartlandartgallery.com/event/7-day-food-challenge-cell-phone-photography/
LOCATION:Heartland Art Center\, 214 N Michigan St\, Plymouth\, IN\, United States
CATEGORIES:Classes
ATTACH;FMTTYPE=image/jpeg:https://heartlandartgallery.com/wp-content/uploads/2025/12/7-Day-Food-Challenge-Brenda-B.jpg
GEO:41.340975;-86.30912
X-APPLE-STRUCTURED-LOCATION;VALUE=URI;X-ADDRESS=Heartland Art Center 214 N Michigan St Plymouth IN United States;X-APPLE-RADIUS=500;X-TITLE=214 N Michigan St:geo:-86.30912,41.340975
END:VEVENT
END:VCALENDAR