BEGIN:VCALENDAR
VERSION:2.0
PRODID:-//Heartland Art Center - ECPv6.15.20//NONSGML v1.0//EN
CALSCALE:GREGORIAN
METHOD:PUBLISH
X-ORIGINAL-URL:https://heartlandartgallery.com
X-WR-CALDESC:Events for Heartland Art Center
REFRESH-INTERVAL;VALUE=DURATION:PT1H
X-Robots-Tag:noindex
X-PUBLISHED-TTL:PT1H
BEGIN:VTIMEZONE
TZID:America/Indiana/Indianapolis
BEGIN:DAYLIGHT
TZOFFSETFROM:-0500
TZOFFSETTO:-0400
TZNAME:EDT
DTSTART:20250309T070000
END:DAYLIGHT
BEGIN:STANDARD
TZOFFSETFROM:-0400
TZOFFSETTO:-0500
TZNAME:EST
DTSTART:20251102T060000
END:STANDARD
BEGIN:DAYLIGHT
TZOFFSETFROM:-0500
TZOFFSETTO:-0400
TZNAME:EDT
DTSTART:20260308T070000
END:DAYLIGHT
BEGIN:STANDARD
TZOFFSETFROM:-0400
TZOFFSETTO:-0500
TZNAME:EST
DTSTART:20261101T060000
END:STANDARD
BEGIN:DAYLIGHT
TZOFFSETFROM:-0500
TZOFFSETTO:-0400
TZNAME:EDT
DTSTART:20270314T070000
END:DAYLIGHT
BEGIN:STANDARD
TZOFFSETFROM:-0400
TZOFFSETTO:-0500
TZNAME:EST
DTSTART:20271107T060000
END:STANDARD
END:VTIMEZONE
BEGIN:VEVENT
DTSTART;TZID=America/Indiana/Indianapolis:20260202T164500
DTEND;TZID=America/Indiana/Indianapolis:20260202T173000
DTSTAMP:20260424T061606
CREATED:20251008T011804Z
LAST-MODIFIED:20251121T181841Z
UID:10000186-1770050700-1770053400@heartlandartgallery.com
SUMMARY:Pre-School Acro
DESCRIPTION:Felke Dance Studio presents Pre-School Acro at Heartland Art Center
URL:https://heartlandartgallery.com/event/pre-school-acro-18/
LOCATION:Heartland Art Center\, 214 N Michigan St\, Plymouth\, IN\, United States
CATEGORIES:Classes
GEO:41.340975;-86.30912
X-APPLE-STRUCTURED-LOCATION;VALUE=URI;X-ADDRESS=Heartland Art Center 214 N Michigan St Plymouth IN United States;X-APPLE-RADIUS=500;X-TITLE=214 N Michigan St:geo:-86.30912,41.340975
END:VEVENT
BEGIN:VEVENT
DTSTART;TZID=America/Indiana/Indianapolis:20260202T173000
DTEND;TZID=America/Indiana/Indianapolis:20260202T181500
DTSTAMP:20260424T061606
CREATED:20251121T192401Z
LAST-MODIFIED:20260202T231345Z
UID:10000501-1770053400-1770056100@heartlandartgallery.com
SUMMARY:Tap Dancing
DESCRIPTION:FELKE DANCE STUDIO PRESENTS MOMMY/DADDY & ME AT HEARTLAND ART CENTER \nEMAIL: desireefelke@gmail.com
URL:https://heartlandartgallery.com/event/tap-dancing-9/
LOCATION:Heartland Art Center\, 214 N Michigan St\, Plymouth\, IN\, United States
CATEGORIES:Classes
GEO:41.340975;-86.30912
X-APPLE-STRUCTURED-LOCATION;VALUE=URI;X-ADDRESS=Heartland Art Center 214 N Michigan St Plymouth IN United States;X-APPLE-RADIUS=500;X-TITLE=214 N Michigan St:geo:-86.30912,41.340975
END:VEVENT
BEGIN:VEVENT
DTSTART;TZID=America/Indiana/Indianapolis:20260202T174500
DTEND;TZID=America/Indiana/Indianapolis:20260202T183000
DTSTAMP:20260424T061606
CREATED:20251008T011804Z
LAST-MODIFIED:20251121T181841Z
UID:10000187-1770054300-1770057000@heartlandartgallery.com
SUMMARY:Mommy & Me Tumbling
DESCRIPTION:FELKE DANCE STUDIO PRESENTS MOMMY/DADDY & ME AT HEARTLAND ART CENTER \nEMAIL: desireefelke@gmail.com
URL:https://heartlandartgallery.com/event/mommy-me-tumbling-18/
LOCATION:Heartland Art Center\, 214 N Michigan St\, Plymouth\, IN\, United States
CATEGORIES:Classes
GEO:41.340975;-86.30912
X-APPLE-STRUCTURED-LOCATION;VALUE=URI;X-ADDRESS=Heartland Art Center 214 N Michigan St Plymouth IN United States;X-APPLE-RADIUS=500;X-TITLE=214 N Michigan St:geo:-86.30912,41.340975
END:VEVENT
BEGIN:VEVENT
DTSTART;TZID=America/Indiana/Indianapolis:20260202T180000
DTEND;TZID=America/Indiana/Indianapolis:20260202T200000
DTSTAMP:20260424T061606
CREATED:20251230T184238Z
LAST-MODIFIED:20260203T005925Z
UID:10000676-1770055200-1770062400@heartlandartgallery.com
SUMMARY:Abstract Acrylic Painting
DESCRIPTION:
URL:https://heartlandartgallery.com/event/abstract-acrylic-painting/
LOCATION:Heartland Art Center\, 214 N Michigan St\, Plymouth\, IN\, United States
CATEGORIES:Classes
ATTACH;FMTTYPE=image/png:https://heartlandartgallery.com/wp-content/uploads/2025/12/4.png
GEO:41.340975;-86.30912
X-APPLE-STRUCTURED-LOCATION;VALUE=URI;X-ADDRESS=Heartland Art Center 214 N Michigan St Plymouth IN United States;X-APPLE-RADIUS=500;X-TITLE=214 N Michigan St:geo:-86.30912,41.340975
END:VEVENT
BEGIN:VEVENT
DTSTART;TZID=America/Indiana/Indianapolis:20260202T181500
DTEND;TZID=America/Indiana/Indianapolis:20260202T190000
DTSTAMP:20260424T061606
CREATED:20251121T192401Z
LAST-MODIFIED:20260202T235929Z
UID:10000500-1770056100-1770058800@heartlandartgallery.com
SUMMARY:Acro
DESCRIPTION:
URL:https://heartlandartgallery.com/event/acro-9/
CATEGORIES:Classes
END:VEVENT
BEGIN:VEVENT
DTSTART;TZID=America/Indiana/Indianapolis:20260203T160000
DTEND;TZID=America/Indiana/Indianapolis:20260203T180000
DTSTAMP:20260424T061606
CREATED:20251205T152910Z
LAST-MODIFIED:20260203T225849Z
UID:10000662-1770134400-1770141600@heartlandartgallery.com
SUMMARY:Dramatic Fantatics Youth Theatre Course
DESCRIPTION:
URL:https://heartlandartgallery.com/event/dramatic-fantatics-youth-theatre-course-5/
LOCATION:Heartland Art Center\, 214 N Michigan St\, Plymouth\, IN\, United States
CATEGORIES:Classes
GEO:41.340975;-86.30912
X-APPLE-STRUCTURED-LOCATION;VALUE=URI;X-ADDRESS=Heartland Art Center 214 N Michigan St Plymouth IN United States;X-APPLE-RADIUS=500;X-TITLE=214 N Michigan St:geo:-86.30912,41.340975
END:VEVENT
BEGIN:VEVENT
DTSTART;TZID=America/Indiana/Indianapolis:20260204T110000
DTEND;TZID=America/Indiana/Indianapolis:20260204T130000
DTSTAMP:20260424T061606
CREATED:20251230T184239Z
LAST-MODIFIED:20260204T175846Z
UID:10000677-1770202800-1770210000@heartlandartgallery.com
SUMMARY:Procreate App - Learn to Draw/Paint Your Photos
DESCRIPTION:
URL:https://heartlandartgallery.com/event/procreate-app-learn-to-draw-paint-your-photos/
LOCATION:Heartland Art Center\, 214 N Michigan St\, Plymouth\, IN\, United States
CATEGORIES:Classes
ATTACH;FMTTYPE=image/png:https://heartlandartgallery.com/wp-content/uploads/2025/12/1.png
GEO:41.340975;-86.30912
X-APPLE-STRUCTURED-LOCATION;VALUE=URI;X-ADDRESS=Heartland Art Center 214 N Michigan St Plymouth IN United States;X-APPLE-RADIUS=500;X-TITLE=214 N Michigan St:geo:-86.30912,41.340975
END:VEVENT
BEGIN:VEVENT
DTSTART;TZID=America/Indiana/Indianapolis:20260204T170000
DTEND;TZID=America/Indiana/Indianapolis:20260204T174500
DTSTAMP:20260424T061606
CREATED:20251008T011804Z
LAST-MODIFIED:20260204T224232Z
UID:10000189-1770224400-1770227100@heartlandartgallery.com
SUMMARY:HipHop Dance Class
DESCRIPTION:Felke Dance Studio presents HipHop Dance Class at Heartland Art CenterEmail to register:  desireefelke@gmail.com
URL:https://heartlandartgallery.com/event/hiphop-dance-class-18/
LOCATION:Heartland Art Center\, 214 N Michigan St\, Plymouth\, IN\, United States
CATEGORIES:Classes
GEO:41.340975;-86.30912
X-APPLE-STRUCTURED-LOCATION;VALUE=URI;X-ADDRESS=Heartland Art Center 214 N Michigan St Plymouth IN United States;X-APPLE-RADIUS=500;X-TITLE=214 N Michigan St:geo:-86.30912,41.340975
END:VEVENT
BEGIN:VEVENT
DTSTART;TZID=America/Indiana/Indianapolis:20260204T174500
DTEND;TZID=America/Indiana/Indianapolis:20260204T183000
DTSTAMP:20260424T061606
CREATED:20251008T011804Z
LAST-MODIFIED:20260204T225003Z
UID:10000188-1770227100-1770229800@heartlandartgallery.com
SUMMARY:Tumbling w/ Miss Kaleigh
DESCRIPTION:Felke Dance Studio presents Tumbling with Miss Kaleigh at Heartland Art CenterEmail to register:  desireefelke@gmail.com
URL:https://heartlandartgallery.com/event/tumbling-w-miss-kaleigh-18/
LOCATION:Heartland Art Center\, 214 N Michigan St\, Plymouth\, IN\, United States
CATEGORIES:Classes
GEO:41.340975;-86.30912
X-APPLE-STRUCTURED-LOCATION;VALUE=URI;X-ADDRESS=Heartland Art Center 214 N Michigan St Plymouth IN United States;X-APPLE-RADIUS=500;X-TITLE=214 N Michigan St:geo:-86.30912,41.340975
END:VEVENT
BEGIN:VEVENT
DTSTART;TZID=America/Indiana/Indianapolis:20260205T153000
DTEND;TZID=America/Indiana/Indianapolis:20260205T200000
DTSTAMP:20260424T061606
CREATED:20260119T165328Z
LAST-MODIFIED:20260206T010043Z
UID:10000718-1770305400-1770321600@heartlandartgallery.com
SUMMARY:Alex Jeffirs Piano Lessons
DESCRIPTION:
URL:https://heartlandartgallery.com/event/alex-jeffirs-piano-lessons-3/
CATEGORIES:Classes
END:VEVENT
BEGIN:VEVENT
DTSTART;TZID=America/Indiana/Indianapolis:20260205T170000
DTEND;TZID=America/Indiana/Indianapolis:20260205T180000
DTSTAMP:20260424T061606
CREATED:20251230T184241Z
LAST-MODIFIED:20260205T223639Z
UID:10000678-1770310800-1770314400@heartlandartgallery.com
SUMMARY:Watercolor Painting
DESCRIPTION:
URL:https://heartlandartgallery.com/event/watercolor-painting/
LOCATION:Heartland Art Center\, 214 N Michigan St\, Plymouth\, IN\, United States
CATEGORIES:Classes
ATTACH;FMTTYPE=image/png:https://heartlandartgallery.com/wp-content/uploads/2025/12/3.png
GEO:41.340975;-86.30912
X-APPLE-STRUCTURED-LOCATION;VALUE=URI;X-ADDRESS=Heartland Art Center 214 N Michigan St Plymouth IN United States;X-APPLE-RADIUS=500;X-TITLE=214 N Michigan St:geo:-86.30912,41.340975
END:VEVENT
BEGIN:VEVENT
DTSTART;TZID=America/Indiana/Indianapolis:20260205T180000
DTEND;TZID=America/Indiana/Indianapolis:20260205T200000
DTSTAMP:20260424T061606
CREATED:20260109T181341Z
LAST-MODIFIED:20260206T010043Z
UID:10000706-1770314400-1770321600@heartlandartgallery.com
SUMMARY:MCAP Workshop
DESCRIPTION:
URL:https://heartlandartgallery.com/event/mcap-workshop/
LOCATION:Heartland Art Center\, 214 N Michigan St\, Plymouth\, IN\, United States
CATEGORIES:Classes
GEO:41.340975;-86.30912
X-APPLE-STRUCTURED-LOCATION;VALUE=URI;X-ADDRESS=Heartland Art Center 214 N Michigan St Plymouth IN United States;X-APPLE-RADIUS=500;X-TITLE=214 N Michigan St:geo:-86.30912,41.340975
END:VEVENT
BEGIN:VEVENT
DTSTART;TZID=America/Indiana/Indianapolis:20260206T173000
DTEND;TZID=America/Indiana/Indianapolis:20260206T203000
DTSTAMP:20260424T061606
CREATED:20251230T184242Z
LAST-MODIFIED:20260207T003710Z
UID:10000679-1770399000-1770409800@heartlandartgallery.com
SUMMARY:Stained Glass - Ivy in Pot
DESCRIPTION:
URL:https://heartlandartgallery.com/event/stained-glass-ivy-in-pot/
LOCATION:Heartland Art Center\, 214 N Michigan St\, Plymouth\, IN\, United States
CATEGORIES:Classes
GEO:41.340975;-86.30912
X-APPLE-STRUCTURED-LOCATION;VALUE=URI;X-ADDRESS=Heartland Art Center 214 N Michigan St Plymouth IN United States;X-APPLE-RADIUS=500;X-TITLE=214 N Michigan St:geo:-86.30912,41.340975
END:VEVENT
BEGIN:VEVENT
DTSTART;TZID=America/Indiana/Indianapolis:20260207T123000
DTEND;TZID=America/Indiana/Indianapolis:20260207T143000
DTSTAMP:20260424T061606
CREATED:20251230T184243Z
LAST-MODIFIED:20260207T192058Z
UID:10000680-1770467400-1770474600@heartlandartgallery.com
SUMMARY:Poured Paint Class
DESCRIPTION:
URL:https://heartlandartgallery.com/event/poured-paint-class/
LOCATION:Heartland Art Center\, 214 N Michigan St\, Plymouth\, IN\, United States
CATEGORIES:Classes
GEO:41.340975;-86.30912
X-APPLE-STRUCTURED-LOCATION;VALUE=URI;X-ADDRESS=Heartland Art Center 214 N Michigan St Plymouth IN United States;X-APPLE-RADIUS=500;X-TITLE=214 N Michigan St:geo:-86.30912,41.340975
END:VEVENT
BEGIN:VEVENT
DTSTART;TZID=America/Indiana/Indianapolis:20260208T140000
DTEND;TZID=America/Indiana/Indianapolis:20260208T163000
DTSTAMP:20260424T061606
CREATED:20251230T184243Z
LAST-MODIFIED:20251230T184515Z
UID:10000681-1770559200-1770568200@heartlandartgallery.com
SUMMARY:Mobile Photography - Better Light\, Better Photos
DESCRIPTION:
URL:https://heartlandartgallery.com/event/mobile-photography-better-light-better-photos/
LOCATION:Heartland Art Center\, 214 N Michigan St\, Plymouth\, IN\, United States
CATEGORIES:Classes
GEO:41.340975;-86.30912
X-APPLE-STRUCTURED-LOCATION;VALUE=URI;X-ADDRESS=Heartland Art Center 214 N Michigan St Plymouth IN United States;X-APPLE-RADIUS=500;X-TITLE=214 N Michigan St:geo:-86.30912,41.340975
END:VEVENT
END:VCALENDAR