BEGIN:VCALENDAR
VERSION:2.0
PRODID:-//Heartland Art Center - ECPv6.15.20//NONSGML v1.0//EN
CALSCALE:GREGORIAN
METHOD:PUBLISH
X-WR-CALNAME:Heartland Art Center
X-ORIGINAL-URL:https://heartlandartgallery.com
X-WR-CALDESC:Events for Heartland Art Center
REFRESH-INTERVAL;VALUE=DURATION:PT1H
X-Robots-Tag:noindex
X-PUBLISHED-TTL:PT1H
BEGIN:VTIMEZONE
TZID:America/Indiana/Indianapolis
BEGIN:DAYLIGHT
TZOFFSETFROM:-0500
TZOFFSETTO:-0400
TZNAME:EDT
DTSTART:20250309T070000
END:DAYLIGHT
BEGIN:STANDARD
TZOFFSETFROM:-0400
TZOFFSETTO:-0500
TZNAME:EST
DTSTART:20251102T060000
END:STANDARD
BEGIN:DAYLIGHT
TZOFFSETFROM:-0500
TZOFFSETTO:-0400
TZNAME:EDT
DTSTART:20260308T070000
END:DAYLIGHT
BEGIN:STANDARD
TZOFFSETFROM:-0400
TZOFFSETTO:-0500
TZNAME:EST
DTSTART:20261101T060000
END:STANDARD
BEGIN:DAYLIGHT
TZOFFSETFROM:-0500
TZOFFSETTO:-0400
TZNAME:EDT
DTSTART:20270314T070000
END:DAYLIGHT
BEGIN:STANDARD
TZOFFSETFROM:-0400
TZOFFSETTO:-0500
TZNAME:EST
DTSTART:20271107T060000
END:STANDARD
END:VTIMEZONE
BEGIN:VEVENT
DTSTART;TZID=America/Indiana/Indianapolis:20261130T164500
DTEND;TZID=America/Indiana/Indianapolis:20261130T173000
DTSTAMP:20260423T082705
CREATED:20251008T011844Z
LAST-MODIFIED:20251121T181834Z
UID:10000358-1796057100-1796059800@heartlandartgallery.com
SUMMARY:Pre-School Acro
DESCRIPTION:Felke Dance Studio presents Pre-School Acro at Heartland Art Center
URL:https://heartlandartgallery.com/event/pre-school-acro-61/
LOCATION:Heartland Art Center\, 214 N Michigan St\, Plymouth\, IN\, United States
CATEGORIES:Classes
GEO:41.340975;-86.30912
X-APPLE-STRUCTURED-LOCATION;VALUE=URI;X-ADDRESS=Heartland Art Center 214 N Michigan St Plymouth IN United States;X-APPLE-RADIUS=500;X-TITLE=214 N Michigan St:geo:-86.30912,41.340975
END:VEVENT
BEGIN:VEVENT
DTSTART;TZID=America/Indiana/Indianapolis:20261130T173000
DTEND;TZID=America/Indiana/Indianapolis:20261130T181500
DTSTAMP:20260423T082705
CREATED:20251121T192430Z
LAST-MODIFIED:20260313T180252Z
UID:10000587-1796059800-1796062500@heartlandartgallery.com
SUMMARY:Tap Dancing
DESCRIPTION:FELKE DANCE STUDIO PRESENTS MOMMY/DADDY & ME AT HEARTLAND ART CENTER \nEMAIL: desireefelke@gmail.com
URL:https://heartlandartgallery.com/event/tap-dancing-52/
LOCATION:Heartland Art Center\, 214 N Michigan St\, Plymouth\, IN\, United States
CATEGORIES:Classes
GEO:41.340975;-86.30912
X-APPLE-STRUCTURED-LOCATION;VALUE=URI;X-ADDRESS=Heartland Art Center 214 N Michigan St Plymouth IN United States;X-APPLE-RADIUS=500;X-TITLE=214 N Michigan St:geo:-86.30912,41.340975
END:VEVENT
BEGIN:VEVENT
DTSTART;TZID=America/Indiana/Indianapolis:20261130T174500
DTEND;TZID=America/Indiana/Indianapolis:20261130T183000
DTSTAMP:20260423T082705
CREATED:20251008T011844Z
LAST-MODIFIED:20251121T181834Z
UID:10000359-1796060700-1796063400@heartlandartgallery.com
SUMMARY:Mommy & Me Tumbling
DESCRIPTION:FELKE DANCE STUDIO PRESENTS MOMMY/DADDY & ME AT HEARTLAND ART CENTER \nEMAIL: desireefelke@gmail.com
URL:https://heartlandartgallery.com/event/mommy-me-tumbling-61/
LOCATION:Heartland Art Center\, 214 N Michigan St\, Plymouth\, IN\, United States
CATEGORIES:Classes
GEO:41.340975;-86.30912
X-APPLE-STRUCTURED-LOCATION;VALUE=URI;X-ADDRESS=Heartland Art Center 214 N Michigan St Plymouth IN United States;X-APPLE-RADIUS=500;X-TITLE=214 N Michigan St:geo:-86.30912,41.340975
END:VEVENT
BEGIN:VEVENT
DTSTART;TZID=America/Indiana/Indianapolis:20261130T181500
DTEND;TZID=America/Indiana/Indianapolis:20261130T190000
DTSTAMP:20260423T082705
CREATED:20251121T192430Z
LAST-MODIFIED:20260313T180252Z
UID:10000586-1796062500-1796065200@heartlandartgallery.com
SUMMARY:Acro
DESCRIPTION:
URL:https://heartlandartgallery.com/event/acro-52/
CATEGORIES:Classes
END:VEVENT
BEGIN:VEVENT
DTSTART;TZID=America/Indiana/Indianapolis:20261202T170000
DTEND;TZID=America/Indiana/Indianapolis:20261202T174500
DTSTAMP:20260423T082705
CREATED:20251008T011844Z
LAST-MODIFIED:20260221T100336Z
UID:10000360-1796230800-1796233500@heartlandartgallery.com
SUMMARY:HipHop Dance Class
DESCRIPTION:Felke Dance Studio presents HipHop Dance Class at Heartland Art CenterEmail to register:  desireefelke@gmail.com
URL:https://heartlandartgallery.com/event/hiphop-dance-class-61/
LOCATION:Heartland Art Center\, 214 N Michigan St\, Plymouth\, IN\, United States
CATEGORIES:Classes
GEO:41.340975;-86.30912
X-APPLE-STRUCTURED-LOCATION;VALUE=URI;X-ADDRESS=Heartland Art Center 214 N Michigan St Plymouth IN United States;X-APPLE-RADIUS=500;X-TITLE=214 N Michigan St:geo:-86.30912,41.340975
END:VEVENT
BEGIN:VEVENT
DTSTART;TZID=America/Indiana/Indianapolis:20261202T170000
DTEND;TZID=America/Indiana/Indianapolis:20261202T174500
DTSTAMP:20260423T082705
CREATED:20260221T111807Z
LAST-MODIFIED:20260223T173328Z
UID:10000879-1796230800-1796233500@heartlandartgallery.com
SUMMARY:Canceled - HipHop Dance Class
DESCRIPTION:Felke Dance Studio presents HipHop Dance Class at Heartland Art CenterEmail to register:  desireefelke@gmail.com
URL:https://heartlandartgallery.com/event/canceled-hiphop-dance-class-42/
LOCATION:Heartland Art Center\, 214 N Michigan St\, Plymouth\, IN\, United States
CATEGORIES:Classes
GEO:41.340975;-86.30912
X-APPLE-STRUCTURED-LOCATION;VALUE=URI;X-ADDRESS=Heartland Art Center 214 N Michigan St Plymouth IN United States;X-APPLE-RADIUS=500;X-TITLE=214 N Michigan St:geo:-86.30912,41.340975
END:VEVENT
BEGIN:VEVENT
DTSTART;TZID=America/Indiana/Indianapolis:20261202T174500
DTEND;TZID=America/Indiana/Indianapolis:20261202T183000
DTSTAMP:20260423T082705
CREATED:20251008T011844Z
LAST-MODIFIED:20260221T100332Z
UID:10000361-1796233500-1796236200@heartlandartgallery.com
SUMMARY:Tumbling w/ Miss Kaleigh
DESCRIPTION:Felke Dance Studio presents Tumbling with Miss Kaleigh at Heartland Art CenterEmail to register:  desireefelke@gmail.com
URL:https://heartlandartgallery.com/event/tumbling-w-miss-kaleigh-61/
LOCATION:Heartland Art Center\, 214 N Michigan St\, Plymouth\, IN\, United States
CATEGORIES:Classes
GEO:41.340975;-86.30912
X-APPLE-STRUCTURED-LOCATION;VALUE=URI;X-ADDRESS=Heartland Art Center 214 N Michigan St Plymouth IN United States;X-APPLE-RADIUS=500;X-TITLE=214 N Michigan St:geo:-86.30912,41.340975
END:VEVENT
BEGIN:VEVENT
DTSTART;TZID=America/Indiana/Indianapolis:20261202T174500
DTEND;TZID=America/Indiana/Indianapolis:20261202T183000
DTSTAMP:20260423T082705
CREATED:20260221T111808Z
LAST-MODIFIED:20260223T173329Z
UID:10000880-1796233500-1796236200@heartlandartgallery.com
SUMMARY:Canceled - Tumbling w/ Miss Kaleigh
DESCRIPTION:Felke Dance Studio presents Tumbling with Miss Kaleigh at Heartland Art CenterEmail to register:  desireefelke@gmail.com
URL:https://heartlandartgallery.com/event/canceled-tumbling-w-miss-kaleigh-43/
LOCATION:Heartland Art Center\, 214 N Michigan St\, Plymouth\, IN\, United States
CATEGORIES:Classes
GEO:41.340975;-86.30912
X-APPLE-STRUCTURED-LOCATION;VALUE=URI;X-ADDRESS=Heartland Art Center 214 N Michigan St Plymouth IN United States;X-APPLE-RADIUS=500;X-TITLE=214 N Michigan St:geo:-86.30912,41.340975
END:VEVENT
BEGIN:VEVENT
DTSTART;TZID=America/Indiana/Indianapolis:20261203T153000
DTEND;TZID=America/Indiana/Indianapolis:20261203T200000
DTSTAMP:20260423T082705
CREATED:20260119T165401Z
LAST-MODIFIED:20260223T173341Z
UID:10000761-1796311800-1796328000@heartlandartgallery.com
SUMMARY:Alex Jeffirs Piano Lessons
DESCRIPTION:
URL:https://heartlandartgallery.com/event/alex-jeffirs-piano-lessons-46/
CATEGORIES:Classes
END:VEVENT
END:VCALENDAR